Workbook

Sheet LOTE 1
B1: LOTE NÚM. 1 - TUBERÍA DE FUNDICIÓN DÚCTIL, PVC-O Y PIEZAS ESPECIALES
A3: L1.01 | B3: Tubería fundición dúctil clase preferente C40-C30 según norma UNE EN-545:2011, recubrimiento interior plastico de poliuretano o similar, con parte proporcional de juntas incluidas. Conexión campana enchufe. Revestimiento exterior Zinc Aluminio 400 gr/m2. | G3: =SUM(F5:F16) -> 0
B4: Concepto | C4: Cantidad | D4: Unidades | E4: Precio Unitario | F4: TOTAL
A5: ML | B5: Tubería DN-80 mm. | C5: 6 | D5: mL | F5: =C5*E5 -> 0
A6: ML | B6: Tubería DN-100 mm. | C6: 550 | D6: mL | F6: =C6*E6 -> 0
A7: ML | B7: Tubería DN-150 mm. | C7: 180 | D7: mL | F7: =C7*E7 -> 0
A8: ML | B8: Tubería DN-200 mm. | C8: 1350 | D8: mL | F8: =C8*E8 -> 0
A9: ML | B9: Tubería DN-250 mm. | C9: 1 | D9: mL | F9: =C9*E9 -> 0
A10: ML | B10: Tubería DN-300 mm. | C10: 1 | D10: mL | F10: =C10*E10 -> 0
A11: ML | B11: Tubería DN-350 mm. | C11: 1 | D11: mL | F11: =C11*E11 -> 0
A12: ML | B12: Tubería DN-400 mm. | C12: 169.5 | D12: mL | F12: =C12*E12 -> 0
A13: ML | B13: Tubería DN-450 mm. | C13: 0 | D13: mL | F13: =C13*E13 -> 0
A14: ML | B14: Tubería DN-500 mm. | C14: 0 | D14: mL | F14: =C14*E14 -> 0
A15: ML | B15: Tubería DN-600 mm. | C15: 0 | D15: mL | F15: =C15*E15 -> 0
A16: ML | B16: Tubería DN-800 mm. | C16: 0 | D16: mL | F16: =C16*E16 -> 0
A18: L1.02 | B18: Empalme de fundicion ductil, conexión Brida enchufe, recubrimiento interior y exterior de epoxi, esmalte o similar aquacoat, conjuntos completos, equipados con contrabridas, bulones y juntas EPDM tanto para brida y contrabrida PFA 16 bar. Brida Orientable. Norma UNE EN-545:2011 | G18: =SUM(F20:F31) -> 0
B19: Concepto | C19: Cantidad | D19: Unidades | E19: Precio Unitario | F19: TOTAL
A20: UD. | B20: Empalme Brida-Enchufe 80 mm. | C20: 1 | D20: UD | F20: =++C20*E20 -> 0
A21: UD. | B21: Empalme Brida-Enchufe 100 mm. | C21: 35 | D21: UD | F21: =++C21*E21 -> 0
A22: UD. | B22: Empalme Brida-Enchufe 150 mm. | C22: 15 | D22: UD | F22: =++C22*E22 -> 0
A23: UD. | B23: Empalme Brida-Enchufe 200 mm. | C23: 76 | D23: UD | F23: =++C23*E23 -> 0
A24: UD. | B24: Empalme Brida-Enchufe 250 mm. | C24: 2 | D24: UD | F24: =++C24*E24 -> 0
A25: UD. | B25: Empalme Brida-Enchufe 300 mm. | C25: 3 | D25: UD | F25: =++C25*E25 -> 0
A26: UD. | B26: Empalme Brida-Enchufe 350 mm. | C26: 1 | D26: UD | F26: =++C26*E26 -> 0
A27: UD. | B27: Empalme Brida-Enchufe 400 mm. | C27: 5 | D27: UD | F27: =++C27*E27 -> 0
A28: UD. | B28: Empalme Brida-Enchufe 450 mm. | C28: 0 | D28: UD | F28: =++C28*E28 -> 0
A29: UD. | B29: Empalme Brida-Enchufe 500 mm. | C29: 0 | D29: UD | F29: =++C29*E29 -> 0
A30: UD. | B30: Empalme Brida-Enchufe 600 mm. | C30: 0 | D30: UD | F30: =++C30*E30 -> 0
A31: UD. | B31: Empalme Brida-Enchufe 800 mm. | C31: 0 | D31: UD | F31: =++C31*E31 -> 0
A33: L1.03 | B33: Empalme de fundicion ductil, conexión Brida Liso, accesorios recubrimiento interior y exterior de epoxi, esmalte o similar aquacoat, conjuntos completos, equipados con junta EPDM para brida PFA 16 bar. Brida Orientable. Norma UNE EN-545:2011 | G33: =SUM(F35:F46) -> 0
B34: Concepto | C34: Cantidad | D34: Unidades | E34: Precio Unitario | F34: TOTAL
A35: UD. | B35: Empalme Brida-Liso 80 mm. | C35: 1 | D35: UD | F35: =++C35*E35 -> 0
A36: UD. | B36: Empalme Brida-Liso 100 mm. | C36: 1 | D36: UD | F36: =++C36*E36 -> 0
A37: UD. | B37: Empalme Brida-Liso 150 mm. | C37: 1 | D37: UD | F37: =++C37*E37 -> 0
A38: UD. | B38: Empalme Brida-Liso 200 mm. | C38: 1 | D38: UD | F38: =++C38*E38 -> 0
A39: UD. | B39: Empalme Brida-Liso 250 mm. | C39: 0 | D39: UD | F39: =++C39*E39 -> 0
A40: UD. | B40: Empalme Brida-Liso 300 mm. | C40: 0 | D40: UD | F40: =++C40*E40 -> 0
A41: UD. | B41: Empalme Brida-Liso 350 mm. | C41: 0 | D41: UD | F41: =++C41*E41 -> 0
A42: UD. | B42: Empalme Brida-Liso 400 mm. | C42: 0 | D42: UD | F42: =++C42*E42 -> 0
A43: UD. | B43: Empalme Brida-Liso 450 mm. | C43: 0 | D43: UD | F43: =++C43*E43 -> 0
...

Sheet LOTE 2
B1: LOTE NÚM. 2 - MATERIAL PARA REPARACIONES, ACOMETIDAS Y BATERÍAS DE CONTADORES; VALVULERÍA Y PIEZAS ESPECIALES; Tuberia y accesorios polietileno PE40 PE100
B3: L2.1.- Enlace de laton (o Polipropileno a eleccion de AB segun pedido) rosca macho para:
B4: Concepto | C4: Cantidad | D4: Precio Unitario | E4: TOTAL
B5: PE de 20- 1/2" | C5: 10 | E5: =C5*D5 -> 0
B6: PE de 25- 3/4" | C6: 20 | E6: =C6*D6 -> 0
B7: PE de 32- 1" | C7: 20 | E7: =C7*D7 -> 0
B8: PE de 40- 1-1/4" | C8: 10 | E8: =C8*D8 -> 0
B9: PE de 50- 1-1/2" | C9: 25 | E9: =C9*D9 -> 0
B10: PE de 63- 2" | C10: 25 | E10: =C10*D10 -> 0
B11: PE de 75- 2-1/2" | C11: 2 | E11: =C11*D11 -> 0
B12: PE de 90-3" | C12: 2 | E12: =C12*D12 -> 0
B13: PE de 110-4" | C13: 2 | E13: =C13*D13 -> 0 | G13: =SUM(E5:E13) -> 0
B15: L2.2.- Enlace de laton (o Polipropileno a eleccion de AB segun pedido) rosca macho reducido para:
B16: Concepto | C16: Cantidad | D16: Precio Unitario | E16: TOTAL
B17: PE de 25- 1/2" | C17: 20 | E17: =C17*D17 -> 0
B18: PE de 32- 3/4" | C18: 20 | E18: =C18*D18 -> 0
B19: PE de 40- 1" | C19: 10 | E19: =C19*D19 -> 0
B20: PE de 50-1 1/4" | C20: 10 | E20: =C20*D20 -> 0 | G20: =SUM(E17:E20) -> 0
B22: L2.3,- Enlace de laton (o Polipropileno a eleccion de AB segun pedido) rosca hembra para:
B23: Concepto | C23: Cantidad | D23: Precio Unitario | E23: TOTAL
B24: PE de 20- 1/2" | C24: 10 | E24: =C24*D24 -> 0
B25: PE de 25- 3/4" | C25: 15 | E25: =C25*D25 -> 0
B26: PE de 32- 1" | C26: 25 | E26: =C26*D26 -> 0
B27: PE de 40- 1-1/4" | C27: 25 | E27: =C27*D27 -> 0
B28: PE de 50- 1-1/2" | C28: 25 | E28: =C28*D28 -> 0
B29: PE de 63- 2" | C29: 25 | E29: =C29*D29 -> 0
B30: PE de 75- 2-1/2" | C30: 2 | E30: =C30*D30 -> 0
B31: PE de 90-3" | C31: 2 | E31: =C31*D31 -> 0
B32: PE de 110-4" | C32: 2 | E32: =C32*D32 -> 0 | G32: =SUM(E24:E32) -> 0
B34: L2.4.- Enlace de laton (o Polipropileno a eleccion de AB segun pedido) rosca hembra reducido para:
B35: Concepto | C35: Cantidad | D35: Precio Unitario | E35: TOTAL
B36: PE de 25- 1/2" | C36: 20 | E36: =C36*D36 -> 0
B37: PE de 32- 3/4" | C37: 20 | E37: =C37*D37 -> 0
B38: PE de 40- 1" | C38: 10 | E38: =C38*D38 -> 0
B39: PE de 50-1 1/4" | C39: 10 | E39: =C39*D39 -> 0 | G39: =SUM(E36:E39) -> 0
B41: L2.5.- Manguito de laton (o Polipropileno a eleccion de AB segun pedido) union para PE de: | J41: =C41/3 -> 0
B42: Concepto | C42: Cantidad | D42: Precio Unitario | E42: TOTAL
B43: Diámetro nominal 20 mm. | C43: 25 | E43: =C43*D43 -> 0
B44: Diámetro nominal 25 mm. | C44: 50 | E44: =C44*D44 -> 0
B45: Diámetro nominal 32 mm. | C45: 50 | E45: =C45*D45 -> 0
...

Sheet LOTE 3
B1: LOTE NÚM. 3 - TUBERÍA DE SANEAMIENTO Y ACCESORIOS DE PVC NO PLASTIFICADO, NO ESTRUCTURADO COLOR TEJA CON JUNTA ELÁSTICA
B3: L3.1.- Tubería PVC no plastificado liso no estructurado Saneamiento UNE 1452 PN-6 SN-4
B4: Concepto | C4: Cantidad | D4: Precio Unitario | E4: TOTAL
B5: metro de Ø 110 | C5: 400 | E5: =C5*D5 -> 0
B6: metro de Ø 125 | C6: 200 | E6: =C6*D6 -> 0
B7: metro de Ø 160 | C7: 300 | E7: =C7*D7 -> 0
B8: metro de Ø 200 | C8: 1000 | E8: =C8*D8 -> 0
B9: metro de Ø 250 | C9: 150 | E9: =C9*D9 -> 0
B10: metro de Ø 315 | C10: 3900 | E10: =C10*D10 -> 0
B11: metro de Ø 400 | C11: 400 | E11: =C11*D11 -> 0
B12: metro de Ø 500 | C12: 200 | E12: =C12*D12 -> 0
B13: metro de Ø 630 | C13: 300 | E13: =C13*D13 -> 0
B14: metro de Ø 710 | C14: 6 | E14: =C14*D14 -> 0
B15: metro de Ø 800 | C15: 6 | E15: =C15*D15 -> 0 | G15: =SUM(E5:E15) -> 0
B17: L3.2.- Manguitos hembra-hembra con junta elástica
B18: Concepto | C18: Cantidad | D18: Precio Unitario | E18: TOTAL
B19: Manguito pvc teja Ø 110 | C19: 25 | E19: =C19*D19 -> 0
B20: Manguito pvc teja Ø 125 | C20: 15 | E20: =C20*D20 -> 0
B21: Manguito pvc teja Ø 160 | C21: 50 | E21: =C21*D21 -> 0
B22: Manguito pvc teja Ø 200 | C22: 75 | E22: =C22*D22 -> 0
B23: Manguito pvc teja Ø 250 | C23: 1 | E23: =C23*D23 -> 0
B24: Manguito pvc teja Ø 315 | C24: 10 | E24: =C24*D24 -> 0
B25: Manguito pvc teja Ø 400 | C25: 2 | E25: =C25*D25 -> 0
B26: Manguito pvc teja Ø 500 | C26: 2 | E26: =C26*D26 -> 0 | G26: =SUM(E19:E26) -> 0
B28: L3.3.- Codos a 87º macho-hembra con junta elástica
B29: Concepto | C29: Cantidad | D29: Precio Unitario | E29: TOTAL
B30: Codo pvc teja Ø 110 87ª | C30: 60 | E30: =C30*D30 -> 0
B31: Codo pvc teja Ø 125 87ª | C31: 40 | E31: =C31*D31 -> 0
B32: Codo pvc teja Ø 160 87ª | C32: 50 | E32: =C32*D32 -> 0
B33: Codo pvc teja Ø 200 87ª | C33: 150 | E33: =C33*D33 -> 0
B34: Codo pvc teja Ø 250 87ª | C34: 1 | E34: =C34*D34 -> 0
B35: Codo pvc teja Ø 315 87ª | C35: 1 | E35: =C35*D35 -> 0
B36: Codo pvc teja Ø 400 87ª | C36: 1 | E36: =C36*D36 -> 0
B37: Codo pvc teja Ø 500 87ª | C37: 1 | E37: =C37*D37 -> 0 | G37: =SUM(E30:E37) -> 0
B39: L3.4.- Codos a 45º macho-hembra con junta elástica
B40: Concepto | C40: Cantidad | D40: Precio Unitario | E40: TOTAL
B41: Codo pvc teja Ø 110 45º | C41: 50 | E41: =C41*D41 -> 0
B42: Codo pvc teja Ø 125 45º | C42: 25 | E42: =C42*D42 -> 0
B43: Codo pvc teja Ø 160 45º | C43: 75 | E43: =C43*D43 -> 0
B44: Codo pvc teja Ø 200 45º | C44: 125 | E44: =C44*D44 -> 0
...

Sheet LOTE 4
B1: LOTE NÚM. 4 - TUBERÍA Y ACCESORIOS DE PRFV
B3: L4.1.- Tubería PRFV SANEAMIENTO
B4: Concepto | C4: Cantidad | D4: Precio Unitario | E4: TOTAL
B5: m.l. Tubería PRFV DN-700 PN-1 SN-5000 | C5: 50 | E5: =C5*D5 -> 0
B6: m.l. Tubería PRFV DN-800 PN-1 SN-5000 | C6: 40 | E6: =C6*D6 -> 0
B7: m.l. Tubería PRFV DN-900 PN-1 SN-5000 | C7: 6 | E7: =C7*D7 -> 0
B8: m.l. Tubería PRFV DN-1000 PN-1 SN-5000 | C8: 6 | E8: =C8*D8 -> 0
B9: m.l. Tubería PRFV DN-1100 PN-1 SN-5000 | C9: 6 | E9: =C9*D9 -> 0
B10: m.l. Tubería PRFV DN-1200 PN-1 SN-5000 | C10: 14 | E10: =C10*D10 -> 0
B11: m.l. Tubería PRFV DN-1300 PN-1 SN-5000 | C11: 6 | E11: =C11*D11 -> 0
B12: m.l. Tubería PRFV DN-1400 PN-1 SN-5000 | C12: 6 | E12: =C12*D12 -> 0
B13: m.l. Tubería PRFV DN-1500 PN-1 SN-5000 | C13: 0 | E13: =C13*D13 -> 0
B14: m.l. Tubería PRFV DN-1600 PN-1 SN-5000 | C14: 6 | E14: =C14*D14 -> 0
B15: m.l. Tubería PRFV DN-1700 PN-1 SN-5000 | C15: 0 | E15: =C15*D15 -> 0
B16: m.l. Tubería PRFV DN-1800 PN-1 SN-5000 | C16: 0 | E16: =C16*D16 -> 0
... B27: m.l.Tuberia PRFV DN1200 SN-10.000 N/m² PN-16 | C27: 50 | E27: =C27*D27 -> 0
B28: m.l.Tubería PRFV DN 1400mm. SN-10.000 N/m² PN-16 | C28: 75 | E28: =C28*D28 -> 0 | G28: =SUM(E5:E28) -> 0
B31: L4.2.- POZOS DE REGISTRO DE PRFV
B32: Concepto | C32: Cantidad | D32: Precio Unitario | E32: TOTAL
B33: Ud. Pozo de registro PRFV DN 600 x 1000. h desde la clave: 50 cm . Con pates | C33: 1 | E33: =C33*D33 -> 0
B34: Ud. Pozo de registro PRFV DN 700 x 1000. h desde la clave: 50 cm . Con pates | E34: =C34*D34 -> 0
B35: Ud. Pozo de registro PRFV DN 800 x 1000. h desde la clave: 50 cm . Con pates | E35: =C35*D35 -> 0
B36: Ud. Pozo de registro PRFV DN 1000 x 1000. h desde la clave: 50 cm . Con pates | C36: 1 | E36: =C36*D36 -> 0
B37: Ud. Pozo de registro PRFV DN 1100 x 1000. h desde la clave: 50 cm . Con pates | C37: 1 | E37: =C37*D37 -> 0
B38: Ud. Pozo de registro PRFV DN 1200 x 1000. h desde la clave: 50 cm . Con pates | E38: =C38*D38 -> 0
B39: Ud. Pozo de registro PRFV DN 1400 x 1000. h desde la clave: 50 cm . Con pates | C39: 1 | E39: =C39*D39 -> 0
B40: Ud. Pozo de registro PRFV DN 1500 x 1000. h desde la clave: 50 cm . Con pates | E40: =C40*D40 -> 0
B41: Ud. Pozo de registro PRFV DN 1600 x 1000. h desde la clave: 50 cm . Con pates | C41: 1 | E41: =C41*D41 -> 0
B42: Ud. Pozo de registro PRFV DN 1800 x 1000. h desde la clave: 50 cm . Con pates | C42: 1 | E42: =C42*D42 -> 0
B43: Ud. Pozo de registro PRFV DN 2000 x 1000. h desde la clave: 50 cm . Con pates | E43: =C43*D43 -> 0
B44: Ud. Pozo de registro PRFV DN 2200 x 1000. h desde la clave: 50 cm . Con pates | E44: =C44*D44 -> 0 | G44: =SUM(E33:E44) -> 0
B46: L4.3.- CODOS DE PRFV
B47: Concepto | C47: Cantidad | D47: Precio Unitario | E47: TOTAL
B48: Ud Codo PRFV DN 600 PN-1 SN-5000 hasta 45º | C48: 1 | E48: =C48*D48 -> 0
B49: Ud Codo PRFV DN 700 PN-1 SN-5000 hasta 45º | C49: 1 | E49: =C49*D49 -> 0
B50: Ud Codo PRFV DN 800 PN-1 SN-5000 hasta 45º | C50: 1 | E50: =C50*D50 -> 0
B51: Ud Codo PRFV DN 1000 PN-1 SN-5000 hasta 45º | C51: 0 | E51: =C51*D51 -> 0
B52: Ud Codo PRFV DN 1100 PN-1 SN-5000 hasta 45º | C52: 1 | E52: =C52*D52 -> 0
B53: Ud Codo PRFV DN 1200 PN-1 SN-5000 hasta 45º | C53: 1 | E53: =C53*D53 -> 0
B54: Ud Codo PRFV DN 1400 PN-1 SN-5000 hasta 45º | C54: 1 | E54: =C54*D54 -> 0
...

Sheet LOTE 5
B1: LOTE NÚM. 5 - MARCOS Y TAPAS DE FUNDICION Y ACERO GALVANIZADO
A3: L5.01 | B3: MARCO Y TAPA CIRCULAR DE FUNDICION DUCTIL 600 Ø CLASE D400
B4: CONCEPTO | C4: CANTIDAD | D4: Precio Ud. | E4: TOTAL
B5: Marco y tapa de fundición de grafito esferoidal según norma ISO1083 y EN 1563 conforme a La clase D400 de la norma EN 124. Certificación del producto AENOR. Tapa articulada redonda provista de 5 guías de auto-centrado. Provista de soporte elástico de polietileno clipado sobre marco, anti-ruido y anti-desplazamiento. Sistema Antirrobo, bloqueo de seguridad a 90º.Apertura de tapa mediante tirador incorporado en la tapa. (peso 58 kg) Anagrama AGUAS DE BURGOS con inscripciones Aguas, Saneamiento y Pluviales. | C5: 100 | E5: =C5*D5 -> 0
A7: L5.02 | B7: MARCO Y TAPA CIRCULAR DE FUNDICION DUCTIL 600 Ø CLASE D400 TRAFICO INTENSO
B8: CONCEPTO | C8: CANTIDAD | D8: Precio Ud. | E8: TOTAL
B9: Marco y tapa de fundición de grafito esferoidal según norma ISO1083 y EN 1563 conforme a la clase D400 de la norma EN 124. Certificación del producto AENOR Tapa articulada Redonda con bloqueo antirretorno a 90º, equipada con junta de policloropreno anti-ruido y anti-desplazamiento.Equipada con orificios para anclar al suelo. (peso 87 kg) Anagrama AGUAS DE BURGOS con inscripciones Aguas, Saneamiento y Pluviales. | C9: 10 | E9: =C9*D9 -> 0
A11: L5.03 | B11: MARCO Y TAPA CIRCULAR DE FUNDICION DUCTIL 700 Ø CLASE D400
B12: CONCEPTO | C12: CANTIDAD | D12: Precio Ud. | E12: TOTAL
B13: Marco y tapa de fundición de grafito esferoidal según norma ISO1083 y EN 1563 conforme a la clase D400 de la norma EN 124. Certificación del producto AENOR. Tapa articulada redonda provista de 5 guías de auto-centrado. Provista de soporte elástico de polietileno clipado sobre marco, anti-ruido y anti-desplazamiento. Sistema Antirrobo, bloqueo de seguridad a 90º Apertura de tapa mediante tirador incorporado en tapa. (peso 104 kg) | C13: 5 | E13: =C13*D13 -> 0
A15: L5.04 | B15: MARCO Y TAPA CIRCULAR DE FUNDICION DUCTIL 800 Ø CLASE D400
B16: CONCEPTO | C16: CANTIDAD | D16: Precio Ud. | E16: TOTAL
B17: Marco y tapa de fundición de grafito esferoidal según norma ISO1083 y EN 1563 conforme a la clase D400 de la norma EN 124. Certificación del producto AENOR. Tapa articulada redonda provista de 5 guías de auto-centrado. Provista de soporte elástico de polietileno clipado sobre marco, anti-ruido y anti-desplazamiento. Sistema Antirrobo, bloqueo de seguridad a 90º Tapa con 2 orificios pasante s para manipulación. Apertura de tapa mediante tirador incorporado en tapa. (peso 110 kg) | C17: 5 | E17: =C17*D17 -> 0
A19: L5.05 | B19: MARCO APARENTE DE FUNDICION DÚCTIL PARA DISPOSITIVOS DE Ø600 en pozos
B20: CONCEPTO | C20: CANTIDAD | D20: Precio Ud. | E20: TOTAL
B21: Marco aparente de fundición GE 500-7 según ISO 1083/EN 1563, para pozos con apertura libre 600 Ø Colocación en los dispositivos redondos de diámetro 600, para la facilitación de los remates del pavimento. , | C21: 30 | E21: =C21*D21 -> 0
A23: L5.06 | B23: REJILLA TRAGADERO DE FUNDICION DUCTIL DE 610X620X205 CLASE C250
B24: CONCEPTO | C24: CANTIDAD | D24: Precio Ud. | E24: TOTAL
B25: Rejilla-tragadero de fundición de grafito esferoidal según ISO1083 y EN 1563 conforme a la clase C250 de la norma EN 124. Certificación del producto NF/AENOR Conjunto tragadero con tapa y rejilla articulada a 100º T. 500 Extraíble en posición vertical y bloqueo de seguridad a 90º. Auto-bloqueo de la rejilla y del buzón mediante dedo elástico. Barrote de selección en el tragadero para evitar que entren objetos voluminosos. Barrotes con sentido tri-dimensional para facilitar la absorción del agua. Para instalacion en bordillos hormigon , | C25: 25 | E25: =C25*D25 -> 0
A27: L5.07 | B27: REJILLA TRAGADERO DE FUNDICION DUCTIL 800X680X160 C-250
B28: CONCEPTO | C28: CANTIDAD | D28: Precio Ud. | E28: TOTAL
B29: Rejilla-tragadero de fundición de grafito esferoidal según ISO1083 y EN 1563 conforme a la clase C250 de la norma EN 124. Certificación del producto NF/AENOR Conjunto tragadero con tapa y rejilla articulada a 100º T. PLUS Tapa y rejilla con bloqueo de seguridad y extraíbles a 90º. Auto-bloqueo de la rejilla y de la tapa mediante dedo elástico. Barrote de lección en el tragadero para evitar que entren objetos voluminosos. Barrotes con sentido tri-direccional para facilitar la absorción del agua. Para instalacion en bordillos de granito. . | C29: =50+187 -> 237 | E29: =C29*D29 -> 0
A31: L5.08 | B31: SUMIDERO FUNDICION 750X290X450 CLASE D400
B32: CONCEPTO | C32: CANTIDAD | D32: Precio Ud. | E32: TOTAL
B33: Sumidero de fundición de grafito esferoidal según ISO1083 y EN 1563 conforme a la clase D400 de la norma EN 124. Certificación del producto AENOR Rejilla triangular articulada antirrobo AV Tapa extraíble anti-olor para su mantenimiento y limpieza. Apertura libre 730x220 con una superficie tragante de 680 cm2 Collarín de salida longitudinal para facilitar la instalación. Salida horizontal de Ø 200 , | C33: 10 | E33: =C33*D33 -> 0
A35: L5.09 | B35: REJILLA FUNDICION DUCTIL DE 500X300 CLASE C250
B36: CONCEPTO | C36: CANTIDAD | D36: Precio Ud. | E36: TOTAL
B37: Modelo REJILLA TIPO BURGOS rejilla fundición dúctil, carga de rotura superior a 250 kN, rejilla abatible y sistema antivandálico con inscripción AYTO. BURGOS , | C37: 150 | E37: =C37*D37 -> 0
A39: L5.10 | B39: REJILLA FUNDICION DUCTIL DE 500x275 CLASE C250 (570x370x80 C-250)
B40: CONCEPTO | C40: CANTIDAD | D40: Precio Ud. | E40: TOTAL
B41: Rejilla articulada de fundición GE 500-7 según ISO 1083/EN 1563, en Clase C250 según norma EN-124:2015, con certificación AENOR, apertura libre 429x220 mm, dimensión exterior 568x372 mm, altura 80mm. Peso del conjunto 36,9 kg. Rejilla de 499x274 mm, articulada reversible anti-robo con barrotes a 45º, distancia entre barrotes inferior a 25 mm, superficie antideslizante y apertura a 110º, extraíble una vez eliminado el sellado al nivel de la articulación. Superficie tragante 346 cm². Revestimiento de pintura hidrosoluble negra, no tóxica, no inflamable y no contaminante. , | C41: 50 | E41: =C41*D41 -> 0
A43: L5.11 | B43: REJILLA FUNDICION DUCTIL DE 586x357 CLASE C250 (725x400x80 C-250)
B44: CONCEPTO | C44: CANTIDAD | D44: Precio Ud. | E44: TOTAL
B45: Rejilla articulada cautiva de fundición GE 500-7 según ISO 1083/EN 1563, en Clase C250 kN según norma EN-124:2015, con certificación AENOR, apertura libre 550x300 mm, dimensión exterior 725x400 mm, altura 80mm. Peso del conjunto 39,5 kg . Rejilla articulada anti-robo de 586x357 mm, extraíble una vez eliminado el sellado al nivel de la articulación, barrotes rectos, distancia entre barrotes inferior a 30 mm, superficie antideslizante y apertura a 100o. Superficie tragante 1100 cm². Marco monobloque moldeado diseñado para ser instalado pegado a acera. Revestimiento de pintura hidrosoluble negra, no tóxica, no inflamable y no contaminante , | C45: 50 | E45: =C45*D45 -> 0
A47: L5.12 | B47: TAPA Y MARCO 400X400 CLASE C250
B48: CONCEPTO | C48: CANTIDAD | D48: Precio Ud. | E48: TOTAL
B49: Marco y tapa cuadrada defundición GE 500-7 según ISO 1083/EN 1563, en Clase C250 según norma EN-124:2015, con certificación AENOR, apertura libre 300x300 mm, dimensión exterior 400X400 mm, altura 50mm. Tapa de 346x346 mm con relieve antideslizante, equipada con un orificio de llave para manipularla con la ayuda de un pico, gancho. Marco cuadrado monobloque moldeado, provisto de 4 patines de goma clipados permitiendo estabilidad y ausencia de ruido, con garganta hidráulica >6mm, resistente a las subidas de olores. La geometría exterior del marco permite todos los acabados: baldosas, adoquines etc. Posibilidad de marcado en relieve de servicios específicos. Revestimiento de pintura hidrosoluble negra, no tóxica, no inflamable y no contaminante. Anagrama AGUAS DE BURGOS con inscripción Aguas en relieve y antideslizante , | C49: 200 | E49: =C49*D49 -> 0
A51: L5.13 | B51: TAPA Y MARCO 500X500 CLASE C250
B52: CONCEPTO | C52: CANTIDAD | D52: Precio Ud. | E52: TOTAL
B53: Marco y tapa cuadrada de fundición GE 500-7 según ISO 1083/EN 1563, en Clase C250 según norma EN-124:2015, con certificación AENOR, apertura libre 400x400 mm, dimensión exterior 500X500 mm, altura 50mm. Peso del conjunto 27 kg). Tapa de 446x446 mm y 70 mm de altura, con relieve antideslizante, equipada con un orificio de llave para manipularla con la ayuda de un pico, gancho. Marco cuadrado monobloque moldeado, provisto de 4 patines de goma clipados permitiendo estabilidad y ausencia de ruido, con garganta hidráulica >6mm resistente a las subidas de olores. La geometría exterior del marco permite todos los acabados: baldosas, adoquines etc. Posibilidad de marcado en relieve de servicios específicos. Revestimiento de pintura hidrosoluble negra, no tóxica, no inflamable y no contaminante.Anagrama AGUAS DE BURGOS con inscripción Aguas en relieve y antideslizante. . | C53: 20 | E53: =C53*D53 -> 0
...

Sheet LOTE 6
B1: LOTE NÚM. 6 - MATERIALES DE CONSTRUCCION
A3: L6.01 | B3: SACO CEMENTO RAPIDO.
B4: CONCEPTO | C4: Cantidad | D4: Precio Ud. | E4: TOTAL
B5: Ligante hidráulico natural sin aditivos de fraguado rápido y regulable de alta resistencia inicial e impermeable. Formato 25 kg. . | C5: 880 | E5: =+C5*D5 -> 0
A7: L6.02 | B7: SACO CEMENTO.
B8: CONCEPTO | C8: Cantidad | D8: Precio Ud. | E8: TOTAL
B9: Cemento puzolánico tipo CEM IV con adición de ceniza volante de resistencia media 32,5 con resistencia inicial normal.Formato 35 kg. | C9: 1320 | E9: =+C9*D9 -> 0
A11: L6.03 | B11: MORTERO REPARACION CON PASIVANTE.
B12: CONCEPTO | C12: Cantidad | D12: Precio Ud. | E12: TOTAL
B13: Mortero mineral a base de ligante con reacción cristalina para la pasivación , reparación, alisado y protección monolítica de estructuras de hormigón degradado. Tixotrópico. Formato 25 kg. . | C13: 66 | E13: =+C13*D13 -> 0
A15: L6.04 | B15: MORTERO SECO.
B16: CONCEPTO | C16: Cantidad | D16: Precio Ud. | E16: TOTAL
B17: Mortero para albañilería a base de cemento, cal hidratada, áridos y aditivos químicos para una gran plasticidad, adherencia, trabajabilidad y excelentes resistencias mecánicas.Formato 25 kg. . | C17: 275 | E17: =+C17*D17 -> 0
A19: L6.05 | B19: MORTERO SECO RÁPIDO.
B20: CONCEPTO | C20: Cantidad | D20: Precio Ud. | E20: TOTAL
B21: Mortero seco especial a base de conglomerantes hidráulicos, áridos de gran pureza, granulometría seleccionada y aditivos químicos.Buena plasticidad, adherencia, altas resistencias mecánicas y fraguado rápido. Formato 25 kg. , | C21: 55 | E21: =+C21*D21 -> 0
A23: L6.06 | B23: MORTERO DE MUY ALTAS PRESTACIONES PARA RELLENO DE HASTA 250 mm.
B24: CONCEPTO | C24: Cantidad | D24: Precio Ud. | E24: TOTAL
B25: Mortero de expansión controlada, autonivelante, sin retracción y de muy altas resistencias para relleno y anclajes.Impermeable al agua, aceites, grasas. Espesores hasta 25 cm. Formato 25 kg. . | C25: 110 | E25: =+C25*D25 -> 0
A27: L6.07 | B27: MORTERO IMPERMEABLE FLEXIBLE.
B28: CONCEPTO | C28: Cantidad | D28: Precio Ud. | E28: TOTAL
B29: Membrana cementosa impermeable flexible monocomponente.Excelente adherencia, transpirable, alta resistencia a la difusión del dióxido de carbono y apto para contacto con agua potable.Formato 15 kg. | C29: 110 | E29: =+C29*D29 -> 0
A31: L6.08 | B31: MORTERO DE APOYO Y FIJACIÓN DE SECADO RÁPIDO.
B32: CONCEPTO | C32: Cantidad | D32: Precio Ud. | E32: TOTAL
B33: Mortero cementoso, de un componente, predosificado para trabajos de fijación y apoyo para trabajos de mantenimiento de calles, buena adherencia en hormigón y asfalto. Formato 25 kg. . | C33: 110 | E33: =+C33*D33 -> 0
A35: L6.09 | B35: HORMIGON SECO.
B36: CONCEPTO | C36: Cantidad | D36: Precio Ud. | E36: TOTAL
B37: Hormigón seco 25 N/mm2 a base de cemento, áridos y aditivos químicos.Granulometría máxima del árido 8 mm. | C37: 330 | E37: =+C37*D37 -> 0
A39: L6.10 | B39: ASFALTO EN FRIO.
B40: CONCEPTO | C40: Cantidad | D40: Precio Ud. | E40: TOTAL
B41: Aglomerado asfáltico de aplicación en frio a base de emulsiones bituminosas y áridos especiales.Estable, gran elasticidad y buena adherencia.Embase 25 kg, . | C41: 220 | E41: =+C41*D41 -> 0
A43: L6.11 | B43: LADRILLO MACIZO 10.
B44: CONCEPTO | C44: Cantidad | D44: Precio Ud. | E44: TOTAL
B45: Ladrillo de arcilla cocida para la fábrica de albañilería protegida. Medidas 238x98x112. . | C45: 26501 | E45: =+C45*D45 -> 0
D47: TOTAL LOTE 6 | E47: =SUM(E5:E45) -> 0

Sheet Resumen
A1: RESUMEN DE LOS LOTES | B1: TOTAL
A3: =+'LOTE 1'!B1 -> LOTE NÚM. 1 - TUBERÍA DE FUNDICIÓN DÚCTIL, PVC-O Y PIEZAS ESPECIALES | B3: =+'LOTE 1'!F485 -> 0
A4: varios lote 1 | B4: 8000
A5: =+'LOTE 2'!B1 -> LOTE NÚM. 2 - MATERIAL PARA REPARACIONES, ACOMETIDAS Y BATERÍAS DE CONTADORES; VALVULERÍA Y PIEZAS ESPECIALES; Tuberia y accesorios polietileno PE40 PE100 | B5: =+'LOTE 2'!E1206 -> 0
A6: varios lote 2 | B6: 5000
A7: =+'LOTE 3'!B1 -> LOTE NÚM. 3 - TUBERÍA DE SANEAMIENTO Y ACCESORIOS DE PVC NO PLASTIFICADO, NO ESTRUCTURADO COLOR TEJA CON JUNTA ELÁSTICA | B7: =+'LOTE 3'!D207 -> 0
A8: varios lote 3 | B8: 8000
A9: =+'LOTE 4'!B1 -> LOTE NÚM. 4 - TUBERÍA Y ACCESORIOS DE PRFV | B9: =+'LOTE 4'!E93 -> 0
A10: varios lote 4 | B10: 8000
A11: =+'LOTE 5'!B1 -> LOTE NÚM. 5 - MARCOS Y TAPAS DE FUNDICION Y ACERO GALVANIZADO | B11: ='LOTE 5'!E155 -> 0
A12: varios lote 5 | B12: 5000
A13: =+'LOTE 6'!B1 -> LOTE NÚM. 6 - MATERIALES DE CONSTRUCCION | B13: =+'LOTE 6'!E47 -> 0
A14: varios lote 6 | B14: 5000
A15: TOTAL | B15: =SUM(B3:B14) -> 39000
