Workbook

Sheet LOTE 1
B1: LOTE NÚM. 1 - TUBERÍA DE FUNDICIÓN DÚCTIL, PVC-O Y PIEZAS ESPECIALES
A3: L1.01 | B3: Tubería fundición dúctil clase preferente C40-C30 según norma UNE EN-545:2011, recubrimiento interior plastico de poliuretano o similar, con parte proporcional de juntas incluidas. Conexión campana enchufe. Revestimiento exterior Zinc Aluminio 400 gr/m2. | G3: =SUM(F5:F16) -> 0
B4: Concepto | C4: Cantidad | D4: Unidades | E4: Precio Unitario | F4: TOTAL
A5: ML | B5: Tubería DN-80 mm. | C5: 6 | D5: mL | F5: =C5*E5 -> 0
A6: ML | B6: Tubería DN-100 mm. | C6: 550 | D6: mL | F6: =C6*E6 -> 0
A7: ML | B7: Tubería DN-150 mm. | C7: 180 | D7: mL | F7: =C7*E7 -> 0
A8: ML | B8: Tubería DN-200 mm. | C8: 1350 | D8: mL | F8: =C8*E8 -> 0
A9: ML | B9: Tubería DN-250 mm. | C9: 1 | D9: mL | F9: =C9*E9 -> 0
A10: ML | B10: Tubería DN-300 mm. | C10: 1 | D10: mL | F10: =C10*E10 -> 0
A11: ML | B11: Tubería DN-350 mm. | C11: 1 | D11: mL | F11: =C11*E11 -> 0
A12: ML | B12: Tubería DN-400 mm. | C12: 169.5 | D12: mL | F12: =C12*E12 -> 0
A13: ML | B13: Tubería DN-450 mm. | C13: 0 | D13: mL | F13: =C13*E13 -> 0
A14: ML | B14: Tubería DN-500 mm. | C14: 0 | D14: mL | F14: =C14*E14 -> 0
A15: ML | B15: Tubería DN-600 mm. | C15: 0 | D15: mL | F15: =C15*E15 -> 0
A16: ML | B16: Tubería DN-800 mm. | C16: 0 | D16: mL | F16: =C16*E16 -> 0
A18: L1.02 | B18: Empalme de fundicion ductil, conexión Brida enchufe, recubrimiento interior y exterior de epoxi, esmalte o similar aquacoat, conjuntos completos, equipados con contrabridas, bulones y juntas EPDM tanto para brida y contrabrida PFA 16 bar. Brida Orientable. Norma UNE EN-545:2011 | G18: =SUM(F20:F31) -> 0
B19: Concepto | C19: Cantidad | D19: Unidades | E19: Precio Unitario | F19: TOTAL
A20: UD. | B20: Empalme Brida-Enchufe 80 mm. | C20: 1 | D20: UD | F20: =++C20*E20 -> 0
A21: UD. | B21: Empalme Brida-Enchufe 100 mm. | C21: 35 | D21: UD | F21: =++C21*E21 -> 0
A22: UD. | B22: Empalme Brida-Enchufe 150 mm. | C22: 15 | D22: UD | F22: =++C22*E22 -> 0
A23: UD. | B23: Empalme Brida-Enchufe 200 mm. | C23: 76 | D23: UD | F23: =++C23*E23 -> 0
A24: UD. | B24: Empalme Brida-Enchufe 250 mm. | C24: 2 | D24: UD | F24: =++C24*E24 -> 0
A25: UD. | B25: Empalme Brida-Enchufe 300 mm. | C25: 3 | D25: UD | F25: =++C25*E25 -> 0
A26: UD. | B26: Empalme Brida-Enchufe 350 mm. | C26: 1 | D26: UD | F26: =++C26*E26 -> 0
A27: UD. | B27: Empalme Brida-Enchufe 400 mm. | C27: 5 | D27: UD | F27: =++C27*E27 -> 0
A28: UD. | B28: Empalme Brida-Enchufe 450 mm. | C28: 0 | D28: UD | F28: =++C28*E28 -> 0
A29: UD. | B29: Empalme Brida-Enchufe 500 mm. | C29: 0 | D29: UD | F29: =++C29*E29 -> 0
A30: UD. | B30: Empalme Brida-Enchufe 600 mm. | C30: 0 | D30: UD | F30: =++C30*E30 -> 0
A31: UD. | B31: Empalme Brida-Enchufe 800 mm. | C31: 0 | D31: UD | F31: =++C31*E31 -> 0
A33: L1.03 | B33: Empalme de fundicion ductil, conexión Brida Liso, accesorios recubrimiento interior y exterior de epoxi, esmalte o similar aquacoat, conjuntos completos, equipados con junta EPDM para brida PFA 16 bar. Brida Orientable. Norma UNE EN-545:2011 | G33: =SUM(F35:F46) -> 0
B34: Concepto | C34: Cantidad | D34: Unidades | E34: Precio Unitario | F34: TOTAL
A35: UD. | B35: Empalme Brida-Liso 80 mm. | C35: 1 | D35: UD | F35: =++C35*E35 -> 0
A36: UD. | B36: Empalme Brida-Liso 100 mm. | C36: 1 | D36: UD | F36: =++C36*E36 -> 0
A37: UD. | B37: Empalme Brida-Liso 150 mm. | C37: 1 | D37: UD | F37: =++C37*E37 -> 0
A38: UD. | B38: Empalme Brida-Liso 200 mm. | C38: 1 | D38: UD | F38: =++C38*E38 -> 0
A39: UD. | B39: Empalme Brida-Liso 250 mm. | C39: 0 | D39: UD | F39: =++C39*E39 -> 0
A40: UD. | B40: Empalme Brida-Liso 300 mm. | C40: 0 | D40: UD | F40: =++C40*E40 -> 0
A41: UD. | B41: Empalme Brida-Liso 350 mm. | C41: 0 | D41: UD | F41: =++C41*E41 -> 0
A42: UD. | B42: Empalme Brida-Liso 400 mm. | C42: 0 | D42: UD | F42: =++C42*E42 -> 0
A43: UD. | B43: Empalme Brida-Liso 450 mm. | C43: 0 | D43: UD | F43: =++C43*E43 -> 0
A44: UD. | B44: Empalme Brida-Liso 500 mm. | C44: 0 | D44: UD | F44: =++C44*E44 -> 0
A45: UD. | B45: Empalme Brida-Liso 600 mm. | C45: 0 | D45: UD | F45: =++C45*E45 -> 0
A46: UD. | B46: Empalme Brida-Liso 800 mm. | C46: 0 | D46: UD | F46: =++C46*E46 -> 0
A48: L1.04 | B48: Junta para acerrojar tuberia de fundicion ductil, anillo de junta EPDM PFA 16 bar con injertos metalicos antitraccion para alojar en cabeza de tubos. | G48: =SUM(F50:F60) -> 0
B49: Concepto | C49: Cantidad | D49: Unidades | E49: Precio Unitario | F49: TOTAL
A50: UD. | B50: Junta EPDM con injertos para acerrojar tuberia 80 mm | C50: 5 | D50: UD | F50: =++C50*E50 -> 0
A51: UD. | B51: Junta EPDM con injertos para acerrojar tuberia 100 mm | C51: 2 | D51: UD | F51: =++C51*E51 -> 0
A52: UD. | B52: Junta EPDM con injertos para acerrojar tuberia 150 mm | C52: 6 | D52: UD | F52: =++C52*E52 -> 0
A53: UD. | B53: Junta EPDM con injertos para acerrojar tuberia 200 mm | C53: 0 | D53: UD | F53: =++C53*E53 -> 0
A54: UD. | B54: Junta EPDM con injertos para acerrojar tuberia 250 mm | C54: 0 | D54: UD | F54: =++C54*E54 -> 0
A55: UD. | B55: Junta EPDM con injertos para acerrojar tuberia 300 mm | C55: 0 | D55: UD | F55: =++C55*E55 -> 0
A56: UD. | B56: Junta EPDM con injertos para acerrojar tuberia 350 mm | C56: 0 | D56: UD | F56: =++C56*E56 -> 0
A57: UD. | B57: Junta EPDM con injertos para acerrojar tuberia 400 mm | C57: 0 | D57: UD | F57: =++C57*E57 -> 0
A58: UD. | B58: Junta EPDM con injertos para acerrojar tuberia 450 mm | C58: 0 | D58: UD | F58: =++C58*E58 -> 0
A59: UD. | B59: Junta EPDM con injertos para acerrojar tuberia 500 mm | C59: 0 | D59: UD | F59: =++C59*E59 -> 0
A60: UD. | B60: Junta EPDM con injertos para acerrojar tuberia 600 mm | C60: 0 | D60: UD | F60: =++C60*E60 -> 0
A62: L1.05 | B62: Conjunto para acerrojar accesorios de fundicion ductil, compuesto por anillo EPDM con injertos metalicos, contrabridas y bulones. | G62: =SUM(F64:F69) -> 0
B63: Concepto | C63: Cantidad | D63: Unidades | E63: Precio Unitario | F63: TOTAL
A64: UD. | B64: Conjunto para acerrojar accesorios. 80 mm | C64: 5 | D64: UD | F64: =++C64*E64 -> 0
A65: UD. | B65: Conjunto para acerrojar accesorios. 100 mm | C65: 2 | D65: UD | F65: =++C65*E65 -> 0
A66: UD. | B66: Conjunto para acerrojar accesorios. 150 mm | C66: 6 | D66: UD | F66: =++C66*E66 -> 0
A67: UD. | B67: Conjunto para acerrojar accesorios. 200 mm | C67: 0 | D67: UD | F67: =++C67*E67 -> 0
A68: UD. | B68: Conjunto para acerrojar accesorios. 250 mm | C68: 0 | D68: UD | F68: =++C68*E68 -> 0
A69: UD. | B69: Conjunto para acerrojar accesorios. 300 mm | C69: 0 | D69: UD | F69: =++C69*E69 -> 0
A71: L1.06 | B71: Codos Enchufe-Enchufe de fundicion ductil, recubrimiento interior y exterior de epoxi, esmalte o similar aquacoat, conjuntos completos equipados con contrabidas, bulones y juntas EPDM para contrabrida PFA > 25 bar. Norma UNE EN-545:2011. Para cualquier angulo 90-45-22-11º | G71: =SUM(F73:F83) -> 0
B72: Concepto | C72: Cantidad | D72: Unidades | E72: Precio Unitario | F72: TOTAL
A73: UD. | B73: Codo Enchufe-Enchufe + juntas mecanicas 80 mm | C73: 0 | D73: UD | F73: =++C73*E73 -> 0
A74: UD. | B74: Codo Enchufe-Enchufe + juntas mecanicas 100 mm | C74: 9 | D74: UD | F74: =++C74*E74 -> 0
A75: UD. | B75: Codo Enchufe-Enchufe + juntas mecanicas 150 mm | C75: 7 | D75: UD | F75: =++C75*E75 -> 0
A76: UD. | B76: Codo Enchufe-Enchufe + juntas mecanicas 200 mm | C76: 7 | D76: UD | F76: =++C76*E76 -> 0
A77: UD. | B77: Codo Enchufe-Enchufe + juntas mecanicas 250 mm | C77: 0 | D77: UD | F77: =++C77*E77 -> 0
A78: UD. | B78: Codo Enchufe-Enchufe + juntas mecanicas 300 mm | C78: 4 | D78: UD | F78: =++C78*E78 -> 0
A79: UD. | B79: Codo Enchufe-Enchufe + juntas mecanicas 350 mm | C79: 0 | D79: UD | F79: =++C79*E79 -> 0
A80: UD. | B80: Codo Enchufe-Enchufe + juntas mecanicas 400 mm | C80: 5 | D80: UD | F80: =++C80*E80 -> 0
A81: UD. | B81: Codo Enchufe-Enchufe + juntas mecanicas 450 mm | C81: 0 | D81: UD | F81: =++C81*E81 -> 0
A82: UD. | B82: Codo Enchufe-Enchufe + juntas mecanicas 500 mm | C82: 0 | D82: UD | F82: =++C82*E82 -> 0
A83: UD. | B83: Codo Enchufe-Enchufe + juntas mecanicas 600 mm | C83: 0 | D83: UD | F83: =++C83*E83 -> 0
A85: L1.07 | B85: Codos Brida-Brida de fundicion ductil, recubrimiento interior y exterior de epoxi, esmalte o similar aquacoat, conjuntos completos equipados con juntas EPDM para brida. PFA 16 bar Norma UNE EN-545:2011. Para cualquier angulo 90-45-22-11º | G85: =SUM(F87:F96) -> 0
B86: Concepto | C86: Cantidad | D86: Unidades | E86: Precio Unitario | F86: TOTAL
A87: UD. | B87: Codo Brida-Brida + juntas 80 mm | C87: 0 | D87: UD | F87: =++C87*E87 -> 0
A88: UD. | B88: Codo Brida-Brida + juntas 100 mm | C88: 31 | D88: UD | F88: =++C88*E88 -> 0
A89: UD. | B89: Codo Brida-Brida + juntas 150 mm | C89: 9 | D89: UD | F89: =++C89*E89 -> 0
A90: UD. | B90: Codo Brida-Brida + juntas 200 mm | C90: 20 | D90: UD | F90: =++C90*E90 -> 0
A91: UD. | B91: Codo Brida-Brida + juntas 250 mm | C91: 11 | D91: UD | F91: =++C91*E91 -> 0
A92: UD. | B92: Codo Brida-Brida + juntas 300 mm | C92: 0 | D92: UD | F92: =++C92*E92 -> 0
A93: UD. | B93: Codo Brida-Brida + juntas 350 mm | C93: 0 | D93: UD | F93: =++C93*E93 -> 0
A94: UD. | B94: Codo Brida-Brida + juntas 400 mm | C94: 0 | D94: UD | F94: =++C94*E94 -> 0
A95: UD. | B95: Codo Brida-Brida + juntas 500 mm | C95: 0 | D95: UD | F95: =++C95*E95 -> 0
A96: UD. | B96: Codo Brida-Brida + juntas 600 mm | C96: 0 | D96: UD | F96: =++C96*E96 -> 0
A98: L1.08 | B98: Te Enchufe-Enchufe a Brida de fundicion ductil, recubrimiento interior y exterior de epoxi, esmalte o similar aquacoat. conjuntos equipados con contrabidas, bulones y juntas EPDM para contrabrida y brida PFA 16 bar. Derivacion con Brida orientable de cualquier diametro. Norma UNE EN-545:2011. | G98: =SUM(F100:F110) -> 0
B99: Concepto | C99: Cantidad | D99: Unidades | E99: Precio Unitario | F99: TOTAL
A100: UD. | B100: Te E/E salida Brida + juntas 80 mm | C100: 0 | D100: UD | F100: =++C100*E100 -> 0
A101: UD. | B101: Te E/E salida Brida + juntas 100 mm | C101: 1 | D101: UD | F101: =++C101*E101 -> 0
A102: UD. | B102: Te E/E salida Brida + juntas 150 mm | C102: 0 | D102: UD | F102: =++C102*E102 -> 0
A103: UD. | B103: Te E/E salida Brida + juntas 200 mm | C103: 23 | D103: UD | F103: =++C103*E103 -> 0
A104: UD. | B104: Te E/E salida Brida + juntas 250 mm | C104: 0 | D104: UD | F104: =++C104*E104 -> 0
A105: UD. | B105: Te E/E salida Brida + juntas 300 mm | C105: 0 | D105: UD | F105: =++C105*E105 -> 0
A106: UD. | B106: Te E/E salida Brida + juntas 350 mm | C106: 0 | D106: UD | F106: =++C106*E106 -> 0
A107: UD. | B107: Te E/E salida Brida + juntas 400 mm | C107: 3 | D107: UD | F107: =++C107*E107 -> 0
A108: UD. | B108: Te E/E salida Brida + juntas 450 mm | C108: 0 | D108: UD | F108: =++C108*E108 -> 0
...

Sheet LOTE 2
B1: LOTE NÚM. 2 - MATERIAL PARA REPARACIONES, ACOMETIDAS Y BATERÍAS DE CONTADORES; VALVULERÍA Y PIEZAS ESPECIALES; Tuberia y accesorios polietileno PE40 PE100
B3: L2.1.- Enlace de laton (o Polipropileno a eleccion de AB segun pedido) rosca macho para:
B4: Concepto | C4: Cantidad | D4: Precio Unitario | E4: TOTAL
B5: PE de 20- 1/2" | C5: 10 | E5: =C5*D5 -> 0
B6: PE de 25- 3/4" | C6: 20 | E6: =C6*D6 -> 0
B7: PE de 32- 1" | C7: 20 | E7: =C7*D7 -> 0
B8: PE de 40- 1-1/4" | C8: 10 | E8: =C8*D8 -> 0
B9: PE de 50- 1-1/2" | C9: 25 | E9: =C9*D9 -> 0
B10: PE de 63- 2" | C10: 25 | E10: =C10*D10 -> 0
B11: PE de 75- 2-1/2" | C11: 2 | E11: =C11*D11 -> 0
B12: PE de 90-3" | C12: 2 | E12: =C12*D12 -> 0
B13: PE de 110-4" | C13: 2 | E13: =C13*D13 -> 0 | G13: =SUM(E5:E13) -> 0
B15: L2.2.- Enlace de laton (o Polipropileno a eleccion de AB segun pedido) rosca macho reducido para:
B16: Concepto | C16: Cantidad | D16: Precio Unitario | E16: TOTAL
B17: PE de 25- 1/2" | C17: 20 | E17: =C17*D17 -> 0
B18: PE de 32- 3/4" | C18: 20 | E18: =C18*D18 -> 0
B19: PE de 40- 1" | C19: 10 | E19: =C19*D19 -> 0
B20: PE de 50-1 1/4" | C20: 10 | E20: =C20*D20 -> 0 | G20: =SUM(E17:E20) -> 0
B22: L2.3,- Enlace de laton (o Polipropileno a eleccion de AB segun pedido) rosca hembra para:
B23: Concepto | C23: Cantidad | D23: Precio Unitario | E23: TOTAL
B24: PE de 20- 1/2" | C24: 10 | E24: =C24*D24 -> 0
B25: PE de 25- 3/4" | C25: 15 | E25: =C25*D25 -> 0
B26: PE de 32- 1" | C26: 25 | E26: =C26*D26 -> 0
B27: PE de 40- 1-1/4" | C27: 25 | E27: =C27*D27 -> 0
B28: PE de 50- 1-1/2" | C28: 25 | E28: =C28*D28 -> 0
B29: PE de 63- 2" | C29: 25 | E29: =C29*D29 -> 0
B30: PE de 75- 2-1/2" | C30: 2 | E30: =C30*D30 -> 0
B31: PE de 90-3" | C31: 2 | E31: =C31*D31 -> 0
B32: PE de 110-4" | C32: 2 | E32: =C32*D32 -> 0 | G32: =SUM(E24:E32) -> 0
B34: L2.4.- Enlace de laton (o Polipropileno a eleccion de AB segun pedido) rosca hembra reducido para:
B35: Concepto | C35: Cantidad | D35: Precio Unitario | E35: TOTAL
B36: PE de 25- 1/2" | C36: 20 | E36: =C36*D36 -> 0
B37: PE de 32- 3/4" | C37: 20 | E37: =C37*D37 -> 0
B38: PE de 40- 1" | C38: 10 | E38: =C38*D38 -> 0
B39: PE de 50-1 1/4" | C39: 10 | E39: =C39*D39 -> 0 | G39: =SUM(E36:E39) -> 0
B41: L2.5.- Manguito de laton (o Polipropileno a eleccion de AB segun pedido) union para PE de: | J41: =C41/3 -> 0
B42: Concepto | C42: Cantidad | D42: Precio Unitario | E42: TOTAL
B43: Diámetro nominal 20 mm. | C43: 25 | E43: =C43*D43 -> 0
B44: Diámetro nominal 25 mm. | C44: 50 | E44: =C44*D44 -> 0
B45: Diámetro nominal 32 mm. | C45: 50 | E45: =C45*D45 -> 0
B46: Diámetro nominal 40 mm. | C46: 25 | E46: =C46*D46 -> 0
B47: Diámetro nominal 50 mm. | C47: 50 | E47: =C47*D47 -> 0
B48: Diámetro nominal 63 mm. | C48: 50 | E48: =C48*D48 -> 0
B49: Diámetro nominal 75 mm. | C49: 1 | E49: =C49*D49 -> 0
B50: Diámetro nominal 90 mm. | C50: 1 | E50: =C50*D50 -> 0
B51: Diámetro nominal 110 mm. | C51: 1 | E51: =C51*D51 -> 0 | G51: =SUM(E43:E51) -> 0
B53: L2.6.- Manguito de laton (o Polipropileno a eleccion de AB segun pedido) reducido para PE de:
B54: Concepto | C54: Cantidad | D54: Precio Unitario | E54: TOTAL
B55: Diámetro nominal 25x32 mm. | C55: 5 | E55: =C55*D55 -> 0
B56: Diámetro nominal 32x40 mm. | C56: 10 | E56: =C56*D56 -> 0
B57: Diámetro nominal 32x50 mm. | C57: 10 | E57: =C57*D57 -> 0
B58: Diámetro nominal 40x50 mm. | C58: 10 | E58: =C58*D58 -> 0
B59: Diámetro nominal 40x63 mm. | C59: 5 | E59: =C59*D59 -> 0
B60: Diámetro nominal 50x63 mm. | C60: 10 | E60: =C60*D60 -> 0 | G60: =SUM(E55:E60) -> 0
B62: L2.7.- Codo de laton (o Polipropileno a eleccion de AB segun pedido) a PE 90º de:
B63: Concepto | C63: Cantidad | D63: Precio Unitario | E63: TOTAL
B64: Diámetro nominal 20 mm. | C64: 5 | E64: =C64*D64 -> 0
B65: Diámetro nominal 25 mm. | C65: 10 | E65: =C65*D65 -> 0
B66: Diámetro nominal 32 mm. | C66: 10 | E66: =C66*D66 -> 0
B67: Diámetro nominal 40 mm. | C67: 5 | E67: =C67*D67 -> 0
B68: Diámetro nominal 50 mm. | C68: 10 | E68: =C68*D68 -> 0
B69: Diámetro nominal 63 mm. | C69: 10 | E69: =C69*D69 -> 0
B70: Diámetro nominal 75 mm. | C70: 1 | E70: =C70*D70 -> 0
B71: Diámetro nominal 90 mm. | C71: 1 | E71: =C71*D71 -> 0 | G71: =SUM(E64:E71) -> 0
B73: L2.8.- Te de laton (o Polipropileno a eleccion de AB segun pedido) para PE con derivacion a Rosca Hembra
B74: Concepto | C74: Cantidad | D74: Precio Unitario | E74: TOTAL
B75: PE de 1/2" DN-20 mm. | C75: 8.3333333 | E75: =C75*D75 -> 0
B76: PE de 3/4" DN-25 mm. | C76: 6.6666667 | E76: =C76*D76 -> 0
B77: PE de 1" DN-32 mm. | C77: 6.6666667 | E77: =C77*D77 -> 0
B78: PE de 1-1/4" DN-40 mm. | C78: 3.3333333 | E78: =C78*D78 -> 0
B79: PE de 1-1/2" DN-50 mm. | C79: 5 | E79: =C79*D79 -> 0
B80: PE de 2"DN 63 mm. | C80: 5 | E80: =C80*D80 -> 0
B81: PE de 2-1/2" DN 75 mm. | C81: 2 | E81: =C81*D81 -> 0
B82: PE de 3"DN-90 mm. | C82: 2 | E82: =C82*D82 -> 0 | G82: =SUM(E75:E82) -> 0
B84: L2.9.- Te de laton (o Polipropileno a eleccion de AB segun pedido) para PE con 3 bocas iguales:
B85: Concepto | C85: Cantidad | D85: Precio Unitario | E85: TOTAL
B86: Diámetro nominal 20 mm. | C86: 10 | E86: =C86*D86 -> 0
B87: Diámetro nominal 25 mm. | C87: 10 | E87: =C87*D87 -> 0
B88: Diámetro nominal 32 mm. | C88: 25 | E88: =C88*D88 -> 0
B89: Diámetro nominal 40 mm. | C89: 10 | E89: =C89*D89 -> 0
B90: Diámetro nominal 50 mm. | C90: 10 | E90: =C90*D90 -> 0
B91: Diámetro nominal 63 mm. | C91: 10 | E91: =C91*D91 -> 0
B92: Diámetro nominal 75 mm. | C92: 1 | E92: =C92*D92 -> 0
B93: Diámetro nominal 90 mm. | C93: 1 | E93: =C93*D93 -> 0 | G93: =SUM(E86:E93) -> 0
B95: L2.10.- Enlace de laton (o Polipropileno a eleccion de AB segun pedido) para PE rosca macho 45º de:
B96: Concepto | C96: Cantidad | D96: Precio Unitario | E96: TOTAL
B97: PE de 1/2" DN-20 mm. | C97: 4 | E97: =C97*D97 -> 0
B98: PE de 3/4" DN-25 mm. | C98: 4 | E98: =C98*D98 -> 0
B99: PE de 1" DN-32 mm. | C99: 15 | E99: =C99*D99 -> 0
B100: PE de 1-1/4" DN-40 mm. | C100: 8.3333333 | E100: =C100*D100 -> 0
B101: PE de 1-1/2" DN-50 mm. | C101: 15 | E101: =C101*D101 -> 0
B102: PE de 2" DN-63 mm. | C102: 15 | E102: =C102*D102 -> 0 | G102: =SUM(E97:E102) -> 0
B104: L2.11.- Enlace de laton (o Polipropileno a eleccion de AB segun pedido) para PE rosca hembra 90º de:
B105: Concepto | C105: Cantidad | D105: Precio Unitario | E105: TOTAL
B106: PE de 1/2" DN-20 mm. | C106: 5 | E106: =C106*D106 -> 0
B107: PE de 3/4" DN-25 mm. | C107: 15 | E107: =C107*D107 -> 0
B108: PE de 1" DN-32 mm. | C108: 15 | E108: =C108*D108 -> 0
B109: PE de 1-1/4" DN-40 mm. | C109: 10 | E109: =C109*D109 -> 0
B110: PE de 1-1/2" DN-50 mm. | C110: 20 | E110: =C110*D110 -> 0
B111: PE de 2" DN-63 mm. | C111: 20 | E111: =C111*D111 -> 0
...

Sheet LOTE 3
B1: LOTE NÚM. 3 - TUBERÍA DE SANEAMIENTO Y ACCESORIOS DE PVC NO PLASTIFICADO, NO ESTRUCTURADO COLOR TEJA CON JUNTA ELÁSTICA
B3: L3.1.- Tubería PVC no plastificado liso no estructurado Saneamiento UNE 1452 PN-6 SN-4
B4: Concepto | C4: Cantidad | D4: Precio Unitario | E4: TOTAL
B5: metro de Ø 110 | C5: 400 | E5: =C5*D5 -> 0
B6: metro de Ø 125 | C6: 200 | E6: =C6*D6 -> 0
B7: metro de Ø 160 | C7: 300 | E7: =C7*D7 -> 0
B8: metro de Ø 200 | C8: 1000 | E8: =C8*D8 -> 0
B9: metro de Ø 250 | C9: 150 | E9: =C9*D9 -> 0
B10: metro de Ø 315 | C10: 3900 | E10: =C10*D10 -> 0
B11: metro de Ø 400 | C11: 400 | E11: =C11*D11 -> 0
B12: metro de Ø 500 | C12: 200 | E12: =C12*D12 -> 0
B13: metro de Ø 630 | C13: 300 | E13: =C13*D13 -> 0
B14: metro de Ø 710 | C14: 6 | E14: =C14*D14 -> 0
B15: metro de Ø 800 | C15: 6 | E15: =C15*D15 -> 0 | G15: =SUM(E5:E15) -> 0
B17: L3.2.- Manguitos hembra-hembra con junta elástica
B18: Concepto | C18: Cantidad | D18: Precio Unitario | E18: TOTAL
B19: Manguito pvc teja Ø 110 | C19: 25 | E19: =C19*D19 -> 0
B20: Manguito pvc teja Ø 125 | C20: 15 | E20: =C20*D20 -> 0
B21: Manguito pvc teja Ø 160 | C21: 50 | E21: =C21*D21 -> 0
B22: Manguito pvc teja Ø 200 | C22: 75 | E22: =C22*D22 -> 0
B23: Manguito pvc teja Ø 250 | C23: 1 | E23: =C23*D23 -> 0
B24: Manguito pvc teja Ø 315 | C24: 10 | E24: =C24*D24 -> 0
B25: Manguito pvc teja Ø 400 | C25: 2 | E25: =C25*D25 -> 0
B26: Manguito pvc teja Ø 500 | C26: 2 | E26: =C26*D26 -> 0 | G26: =SUM(E19:E26) -> 0
B28: L3.3.- Codos a 87º macho-hembra con junta elástica
B29: Concepto | C29: Cantidad | D29: Precio Unitario | E29: TOTAL
B30: Codo pvc teja Ø 110 87ª | C30: 60 | E30: =C30*D30 -> 0
B31: Codo pvc teja Ø 125 87ª | C31: 40 | E31: =C31*D31 -> 0
B32: Codo pvc teja Ø 160 87ª | C32: 50 | E32: =C32*D32 -> 0
B33: Codo pvc teja Ø 200 87ª | C33: 150 | E33: =C33*D33 -> 0
B34: Codo pvc teja Ø 250 87ª | C34: 1 | E34: =C34*D34 -> 0
B35: Codo pvc teja Ø 315 87ª | C35: 1 | E35: =C35*D35 -> 0
B36: Codo pvc teja Ø 400 87ª | C36: 1 | E36: =C36*D36 -> 0
B37: Codo pvc teja Ø 500 87ª | C37: 1 | E37: =C37*D37 -> 0 | G37: =SUM(E30:E37) -> 0
B39: L3.4.- Codos a 45º macho-hembra con junta elástica
B40: Concepto | C40: Cantidad | D40: Precio Unitario | E40: TOTAL
B41: Codo pvc teja Ø 110 45º | C41: 50 | E41: =C41*D41 -> 0
B42: Codo pvc teja Ø 125 45º | C42: 25 | E42: =C42*D42 -> 0
B43: Codo pvc teja Ø 160 45º | C43: 75 | E43: =C43*D43 -> 0
B44: Codo pvc teja Ø 200 45º | C44: 125 | E44: =C44*D44 -> 0
B45: Codo pvc teja Ø 250 45º | C45: 5 | E45: =C45*D45 -> 0
B46: Codo pvc teja Ø 315 45º | C46: 5 | E46: =C46*D46 -> 0
B47: Codo pvc teja Ø 400 45º | C47: 1 | E47: =C47*D47 -> 0
B48: Codo pvc teja Ø 500 45º | C48: 1 | E48: =C48*D48 -> 0 | G48: =SUM(E41:E48) -> 0
B50: L3.5.- Codos a 30º macho-hembra con junta elástica:
B51: Concepto | C51: Cantidad | D51: Precio Unitario | E51: TOTAL
B52: Codo pvc teja Ø 160 30º | C52: 1 | E52: =C52*D52 -> 0
B53: Codo pvc teja Ø 200 30º | C53: 1 | E53: =C53*D53 -> 0
B54: Codo pvc teja Ø 250 30º | C54: 1 | E54: =C54*D54 -> 0
B55: Codo pvc teja Ø 315 30º | C55: 1 | E55: =C55*D55 -> 0
B56: Codo pvc teja Ø 400 30º | C56: 1 | E56: =C56*D56 -> 0 | G56: =SUM(E52:E56) -> 0
B58: L3.6.- Codos a 15º macho-hembra con junta elástica
B59: Concepto | C59: Cantidad | D59: Precio Unitario | E59: TOTAL
B60: Codo pvc teja Ø 160 15º | C60: 1 | E60: =C60*D60 -> 0
B61: Codo pvc teja Ø 200 15º | C61: 1 | E61: =C61*D61 -> 0
B62: Codo pvc teja Ø 250 15º | C62: 1 | E62: =C62*D62 -> 0
B63: Codo pvc teja Ø 315 15º | C63: 1 | E63: =C63*D63 -> 0
B64: Codo pvc teja Ø 400 15º | C64: 1 | E64: =C64*D64 -> 0 | G64: =SUM(E60:E64) -> 0
B66: L3.7.- Te macho-hembra a 87º macho-hembra con junta elástica
B67: Concepto | C67: Cantidad | D67: Precio Unitario | E67: TOTAL
B68: Te pvc teja Ø 110 87º | C68: 5 | E68: =C68*D68 -> 0
B69: Te pvc teja Ø 125 87º | C69: 1 | E69: =C69*D69 -> 0
B70: Te pvc teja Ø 160 87º | C70: 10 | E70: =C70*D70 -> 0
B71: Te pvc teja Ø 200 87º | C71: 10 | E71: =C71*D71 -> 0
B72: Te pvc teja Ø 250 87º | C72: 1 | E72: =C72*D72 -> 0
B73: Te pvc teja Ø 315 87º | C73: 1 | E73: =C73*D73 -> 0
B74: Te pvc teja Ø 400 87º | C74: 1 | E74: =C74*D74 -> 0
B75: Te pvc teja Ø 500 87º | C75: 1 | E75: =C75*D75 -> 0 | G75: =SUM(E68:E75) -> 0
B77: L3.8.- Te macho-hembra a 45º macho-hembra con junta elástica
B78: Concepto | C78: Cantidad | D78: Precio Unitario | E78: TOTAL
B79: Te pvc teja Ø 110 | C79: 1 | E79: =C79*D79 -> 0
B80: Te pvc teja Ø 125 | C80: 1 | E80: =C80*D80 -> 0
B81: Te pvc teja Ø 160 | C81: 1 | E81: =C81*D81 -> 0
B82: Te pvc teja Ø 200 | C82: 1 | E82: =C82*D82 -> 0
B83: Te pvc teja Ø 250 | C83: 1 | E83: =C83*D83 -> 0
B84: Te pvc teja Ø 315 | C84: 1 | E84: =C84*D84 -> 0 | G84: =SUM(E79:E84) -> 0
B86: L3.9.- Te a 87º REDUCIDA macho-hembra con junta elástica
B87: Concepto | C87: Cantidad | D87: Precio Unitario | E87: TOTAL
B88: Te pvc teja Ø 160-125 | C88: 1 | E88: =C88*D88 -> 0
B89: Te pvc teja Ø 200-110 | C89: 1 | E89: =C89*D89 -> 0
B90: Te pvc teja Ø 200-160 | C90: 1 | E90: =C90*D90 -> 0
B91: Te pvc teja Ø 250-200 | C91: 1 | E91: =C91*D91 -> 0
B92: Te pvc teja Ø 315-250 | C92: 1 | E92: =C92*D92 -> 0
B93: Te pvc teja Ø 400-315 | C93: 1 | E93: =C93*D93 -> 0 | G93: =SUM(E88:E93) -> 0
B95: L3.10.- Te a 45º REDUCIDA macho-hembra con junta elástica
B96: Concepto | C96: Cantidad | D96: Precio Unitario | E96: TOTAL
B97: Te pvc teja Ø 160-125 | C97: 1 | E97: =C97*D97 -> 0
B98: Te pvc teja Ø 200-110 | C98: 1 | E98: =C98*D98 -> 0
B99: Te pvc teja Ø 200-160 | C99: 1 | E99: =C99*D99 -> 0
B100: Te pvc teja Ø 250-200 | C100: 1 | E100: =C100*D100 -> 0
B101: Te pvc teja Ø 315-250 | C101: 1 | E101: =C101*D101 -> 0
B102: Te pvc teja Ø 400-315 | C102: 1 | E102: =C102*D102 -> 0 | G102: =SUM(E97:E102) -> 0
B104: L3.11.- Reducciones excéntricas macho-hembra con junta
B105: Concepto | C105: Cantidad | D105: Precio Unitario | E105: TOTAL
B106: Reduccion excéntrica 125-110 | C106: 1 | E106: =C106*D106 -> 0
B107: Reduccion excéntrica 160-125 | C107: 15 | E107: =C107*D107 -> 0
B108: Reduccion excéntrica 160-110 | C108: 15 | E108: =C108*D108 -> 0
B109: Reduccion excéntrica 200-160 | C109: 20 | E109: =C109*D109 -> 0
B110: Reduccion excéntrica 250-200 | C110: 5 | E110: =C110*D110 -> 0
B111: Reduccion excéntrica 315-250 | C111: 1 | E111: =C111*D111 -> 0
...

Sheet LOTE 4
B1: LOTE NÚM. 4 - TUBERÍA Y ACCESORIOS DE PRFV
B3: L4.1.- Tubería PRFV SANEAMIENTO
B4: Concepto | C4: Cantidad | D4: Precio Unitario | E4: TOTAL
B5: m.l. Tubería PRFV DN-700 PN-1 SN-5000 | C5: 50 | E5: =C5*D5 -> 0
B6: m.l. Tubería PRFV DN-800 PN-1 SN-5000 | C6: 40 | E6: =C6*D6 -> 0
B7: m.l. Tubería PRFV DN-900 PN-1 SN-5000 | C7: 6 | E7: =C7*D7 -> 0
B8: m.l. Tubería PRFV DN-1000 PN-1 SN-5000 | C8: 6 | E8: =C8*D8 -> 0
B9: m.l. Tubería PRFV DN-1100 PN-1 SN-5000 | C9: 6 | E9: =C9*D9 -> 0
B10: m.l. Tubería PRFV DN-1200 PN-1 SN-5000 | C10: 14 | E10: =C10*D10 -> 0
B11: m.l. Tubería PRFV DN-1300 PN-1 SN-5000 | C11: 6 | E11: =C11*D11 -> 0
B12: m.l. Tubería PRFV DN-1400 PN-1 SN-5000 | C12: 6 | E12: =C12*D12 -> 0
B13: m.l. Tubería PRFV DN-1500 PN-1 SN-5000 | C13: 0 | E13: =C13*D13 -> 0
B14: m.l. Tubería PRFV DN-1600 PN-1 SN-5000 | C14: 6 | E14: =C14*D14 -> 0
B15: m.l. Tubería PRFV DN-1700 PN-1 SN-5000 | C15: 0 | E15: =C15*D15 -> 0
B16: m.l. Tubería PRFV DN-1800 PN-1 SN-5000 | C16: 0 | E16: =C16*D16 -> 0
... B27: m.l.Tuberia PRFV DN1200 SN-10.000 N/m² PN-16 | C27: 50 | E27: =C27*D27 -> 0
B28: m.l.Tubería PRFV DN 1400mm. SN-10.000 N/m² PN-16 | C28: 75 | E28: =C28*D28 -> 0 | G28: =SUM(E5:E28) -> 0
B31: L4.2.- POZOS DE REGISTRO DE PRFV
B32: Concepto | C32: Cantidad | D32: Precio Unitario | E32: TOTAL
B33: Ud. Pozo de registro PRFV DN 600 x 1000. h desde la clave: 50 cm . Con pates | C33: 1 | E33: =C33*D33 -> 0
B34: Ud. Pozo de registro PRFV DN 700 x 1000. h desde la clave: 50 cm . Con pates | E34: =C34*D34 -> 0
B35: Ud. Pozo de registro PRFV DN 800 x 1000. h desde la clave: 50 cm . Con pates | E35: =C35*D35 -> 0
B36: Ud. Pozo de registro PRFV DN 1000 x 1000. h desde la clave: 50 cm . Con pates | C36: 1 | E36: =C36*D36 -> 0
B37: Ud. Pozo de registro PRFV DN 1100 x 1000. h desde la clave: 50 cm . Con pates | C37: 1 | E37: =C37*D37 -> 0
B38: Ud. Pozo de registro PRFV DN 1200 x 1000. h desde la clave: 50 cm . Con pates | E38: =C38*D38 -> 0
B39: Ud. Pozo de registro PRFV DN 1400 x 1000. h desde la clave: 50 cm . Con pates | C39: 1 | E39: =C39*D39 -> 0
B40: Ud. Pozo de registro PRFV DN 1500 x 1000. h desde la clave: 50 cm . Con pates | E40: =C40*D40 -> 0
B41: Ud. Pozo de registro PRFV DN 1600 x 1000. h desde la clave: 50 cm . Con pates | C41: 1 | E41: =C41*D41 -> 0
B42: Ud. Pozo de registro PRFV DN 1800 x 1000. h desde la clave: 50 cm . Con pates | C42: 1 | E42: =C42*D42 -> 0
B43: Ud. Pozo de registro PRFV DN 2000 x 1000. h desde la clave: 50 cm . Con pates | E43: =C43*D43 -> 0
B44: Ud. Pozo de registro PRFV DN 2200 x 1000. h desde la clave: 50 cm . Con pates | E44: =C44*D44 -> 0 | G44: =SUM(E33:E44) -> 0
B46: L4.3.- CODOS DE PRFV
B47: Concepto | C47: Cantidad | D47: Precio Unitario | E47: TOTAL
B48: Ud Codo PRFV DN 600 PN-1 SN-5000 hasta 45º | C48: 1 | E48: =C48*D48 -> 0
B49: Ud Codo PRFV DN 700 PN-1 SN-5000 hasta 45º | C49: 1 | E49: =C49*D49 -> 0
B50: Ud Codo PRFV DN 800 PN-1 SN-5000 hasta 45º | C50: 1 | E50: =C50*D50 -> 0
B51: Ud Codo PRFV DN 1000 PN-1 SN-5000 hasta 45º | C51: 0 | E51: =C51*D51 -> 0
B52: Ud Codo PRFV DN 1100 PN-1 SN-5000 hasta 45º | C52: 1 | E52: =C52*D52 -> 0
B53: Ud Codo PRFV DN 1200 PN-1 SN-5000 hasta 45º | C53: 1 | E53: =C53*D53 -> 0
B54: Ud Codo PRFV DN 1400 PN-1 SN-5000 hasta 45º | C54: 1 | E54: =C54*D54 -> 0
B55: Ud Codo PRFV DN 1600 PN-1 SN-5000 hasta 45º | C55: 1 | E55: =C55*D55 -> 0
B56: Ud Codo PRFV DN 1800 PN-1 SN-5000 hasta 45º | C56: 1 | E56: =C56*D56 -> 0
B57: Ud Codo PRFV DN 2000 PN-1 SN-5000 hasta 45º | E57: =C57*D57 -> 0
B58: Ud Codo PRFV DN 2200 PN-1 SN-5000 hasta 45º | C58: 1 | E58: =C58*D58 -> 0
B59: Ud Codo PRFV DN 600 PN-1 SN-5000 de 45º a 90º | C59: 1 | E59: =C59*D59 -> 0
B60: Ud Codo PRFV DN 700 PN-1 SN-5000 de 45º a 90º | C60: 1 | E60: =C60*D60 -> 0
B61: Ud Codo PRFV DN 800 PN-1 SN-5000 de 45º a 90º | E61: =C61*D61 -> 0
B62: Ud Codo PRFV DN 1000 PN-1 SN-5000 de 45º a 90º | C62: 1 | E62: =C62*D62 -> 0
B63: Ud Codo PRFV DN 1100 PN-1 SN-5000 de 45º a 90º | C63: 1 | E63: =C63*D63 -> 0
B64: Ud Codo PRFV DN 1200 PN-1 SN-5000 de 45º a 90º | C64: 0 | E64: =C64*D64 -> 0
B65: Ud Codo PRFV DN 1400 PN-1 SN-5000 de 45º a 90º | C65: 0 | E65: =C65*D65 -> 0
B66: Ud Codo PRFV DN 1600 PN-1 SN-5000 de 45º a 90º | C66: 0 | E66: =C66*D66 -> 0
B67: Ud Codo PRFV DN 1800 PN-1 SN-5000 de 45º a 90º | C67: 0 | E67: =C67*D67 -> 0
B68: Ud Codo PRFV DN 2000 PN-1 SN-5000 de 45º a 90º | C68: 0 | E68: =C68*D68 -> 0
B69: Ud Codo PRFV DN 2200 PN-1 SN-5000 de 45º a 90º | C69: 0 | E69: =C69*D69 -> 0 | G69: =SUM(E48:E69) -> 0
B71: L4.4.- Tubería PRFV PRESIÓN
B72: Concepto | C72: Cantidad | D72: Precio Unitario | E72: TOTAL
B73: m.l. Tubería PRFV DN-600 PN-16 SN-5000 Ln:6 | C73: 1 | E73: =C73*D73 -> 0
B74: m.l. Tubería PRFV DN-800 PN-16 SN-5000 Ln:6 | E74: =C74*D74 -> 0
B75: m.l. Tubería PRFV DN-900 PN-16 SN-5000 Ln:6 | C75: 1 | E75: =C75*D75 -> 0
B76: m.l. Tubería PRFV DN-1000 PN-16 SN-5000 Ln:6 | C76: 1 | E76: =C76*D76 -> 0
B77: m.l. Tubería PRFV DN-1200 PN-16 SN-5000 Ln:6 | C77: 1 | E77: =C77*D77 -> 0
B78: m.l. Tubería PRFV DN-600 PN-25 SN-10000 Ln:6 | C78: 1 | E78: =C78*D78 -> 0
B79: m.l. Tubería PRFV DN-800 PN-25 SN-10000 Ln:6 | C79: 1 | E79: =C79*D79 -> 0
B80: m.l. Tubería PRFV DN-900 PN-25 SN-10000 Ln:6 | E80: =C80*D80 -> 0
B81: m.l. Tubería PRFV DN-1000 PN-25 SN-10000 Ln:6 | C81: 1 | E81: =C81*D81 -> 0
B82: m.l. Tubería PRFV DN-1200 PN-25 SN-10000 Ln:6 | C82: 1 | E82: =C82*D82 -> 0 | G82: =SUM(E73:E82) -> 0
B84: L4.5.- MANGUITO BRIDA ENCHUFE PRFV PRESION
B85: Concepto | C85: Cantidad | D85: Precio Unitario | E85: TOTAL
B86: Ud. Manguito Brida Enchufe DN-600 PN-16 SN-5000 | C86: 1 | E86: =C86*D86 -> 0
B87: Ud. Manguito Brida Enchufe DN-800 PN-16 SN-5000 | E87: =C87*D87 -> 0
B88: Ud. Manguito Brida Enchufe DN-900 PN-16 SN-5000 | C88: 1 | E88: =C88*D88 -> 0
B89: Ud. Manguito Brida Enchufe DN-1000 PN-16 SN-5000 | E89: =C89*D89 -> 0
B90: Ud. Manguito Brida Enchufe DN-1200 PN-16 SN-5000 | C90: 1 | E90: =C90*D90 -> 0 | G90: =SUM(E86:E90) -> 0
D93: TOTAL LOTE 6 | E93: =SUM(G4:G90) -> 0

Sheet LOTE 5
B1: LOTE NÚM. 5 - MARCOS Y TAPAS DE FUNDICION Y ACERO GALVANIZADO
A3: L5.01 | B3: MARCO Y TAPA CIRCULAR DE FUNDICION DUCTIL 600 Ø CLASE D400
B4: CONCEPTO | C4: CANTIDAD | D4: Precio Ud. | E4: TOTAL
B5: Marco y tapa de fundición de grafito esferoidal según norma ISO1083 y EN 1563 conforme a La clase D400 de la norma EN 124. Certificación del producto AENOR. Tapa articulada redonda provista de 5 guías de auto-centrado. Provista de soporte elástico de polietileno clipado sobre marco, anti-ruido y anti-desplazamiento. Sistema Antirrobo, bloqueo de seguridad a 90º.Apertura de tapa mediante tirador incorporado en la tapa. (peso 58 kg) Anagrama AGUAS DE BURGOS con inscripciones Aguas, Saneamiento y Pluviales. | C5: 100 | E5: =C5*D5 -> 0
A7: L5.02 | B7: MARCO Y TAPA CIRCULAR DE FUNDICION DUCTIL 600 Ø CLASE D400 TRAFICO INTENSO
B8: CONCEPTO | C8: CANTIDAD | D8: Precio Ud. | E8: TOTAL
B9: Marco y tapa de fundición de grafito esferoidal según norma ISO1083 y EN 1563 conforme a la clase D400 de la norma EN 124. Certificación del producto AENOR Tapa articulada Redonda con bloqueo antirretorno a 90º, equipada con junta de policloropreno anti-ruido y anti-desplazamiento.Equipada con orificios para anclar al suelo. (peso 87 kg) Anagrama AGUAS DE BURGOS con inscripciones Aguas, Saneamiento y Pluviales. | C9: 10 | E9: =C9*D9 -> 0
A11: L5.03 | B11: MARCO Y TAPA CIRCULAR DE FUNDICION DUCTIL 700 Ø CLASE D400
B12: CONCEPTO | C12: CANTIDAD | D12: Precio Ud. | E12: TOTAL
B13: Marco y tapa de fundición de grafito esferoidal según norma ISO1083 y EN 1563 conforme a la clase D400 de la norma EN 124. Certificación del producto AENOR. Tapa articulada redonda provista de 5 guías de auto-centrado. Provista de soporte elástico de polietileno clipado sobre marco, anti-ruido y anti-desplazamiento. Sistema Antirrobo, bloqueo de seguridad a 90º Apertura de tapa mediante tirador incorporado en tapa. (peso 104 kg) | C13: 5 | E13: =C13*D13 -> 0
A15: L5.04 | B15: MARCO Y TAPA CIRCULAR DE FUNDICION DUCTIL 800 Ø CLASE D400
B16: CONCEPTO | C16: CANTIDAD | D16: Precio Ud. | E16: TOTAL
B17: Marco y tapa de fundición de grafito esferoidal según norma ISO1083 y EN 1563 conforme a la clase D400 de la norma EN 124. Certificación del producto AENOR. Tapa articulada redonda provista de 5 guías de auto-centrado. Provista de soporte elástico de polietileno clipado sobre marco, anti-ruido y anti-desplazamiento. Sistema Antirrobo, bloqueo de seguridad a 90º Tapa con 2 orificios pasante s para manipulación. Apertura de tapa mediante tirador incorporado en tapa. (peso 110 kg) | C17: 5 | E17: =C17*D17 -> 0
A19: L5.05 | B19: MARCO APARENTE DE FUNDICION DÚCTIL PARA DISPOSITIVOS DE Ø600 en pozos
B20: CONCEPTO | C20: CANTIDAD | D20: Precio Ud. | E20: TOTAL
B21: Marco aparente de fundición GE 500-7 según ISO 1083/EN 1563, para pozos con apertura libre 600 Ø Colocación en los dispositivos redondos de diámetro 600, para la facilitación de los remates del pavimento. , | C21: 30 | E21: =C21*D21 -> 0
A23: L5.06 | B23: REJILLA TRAGADERO DE FUNDICION DUCTIL DE 610X620X205 CLASE C250
B24: CONCEPTO | C24: CANTIDAD | D24: Precio Ud. | E24: TOTAL
B25: Rejilla-tragadero de fundición de grafito esferoidal según ISO1083 y EN 1563 conforme a la clase C250 de la norma EN 124. Certificación del producto NF/AENOR Conjunto tragadero con tapa y rejilla articulada a 100º T. 500 Extraíble en posición vertical y bloqueo de seguridad a 90º. Auto-bloqueo de la rejilla y del buzón mediante dedo elástico. Barrote de selección en el tragadero para evitar que entren objetos voluminosos. Barrotes con sentido tri-dimensional para facilitar la absorción del agua. Para instalacion en bordillos hormigon , | C25: 25 | E25: =C25*D25 -> 0
A27: L5.07 | B27: REJILLA TRAGADERO DE FUNDICION DUCTIL 800X680X160 C-250
B28: CONCEPTO | C28: CANTIDAD | D28: Precio Ud. | E28: TOTAL
B29: Rejilla-tragadero de fundición de grafito esferoidal según ISO1083 y EN 1563 conforme a la clase C250 de la norma EN 124. Certificación del producto NF/AENOR Conjunto tragadero con tapa y rejilla articulada a 100º T. PLUS Tapa y rejilla con bloqueo de seguridad y extraíbles a 90º. Auto-bloqueo de la rejilla y de la tapa mediante dedo elástico. Barrote de lección en el tragadero para evitar que entren objetos voluminosos. Barrotes con sentido tri-direccional para facilitar la absorción del agua. Para instalacion en bordillos de granito. . | C29: =50+187 -> 237 | E29: =C29*D29 -> 0
A31: L5.08 | B31: SUMIDERO FUNDICION 750X290X450 CLASE D400
B32: CONCEPTO | C32: CANTIDAD | D32: Precio Ud. | E32: TOTAL
B33: Sumidero de fundición de grafito esferoidal según ISO1083 y EN 1563 conforme a la clase D400 de la norma EN 124. Certificación del producto AENOR Rejilla triangular articulada antirrobo AV Tapa extraíble anti-olor para su mantenimiento y limpieza. Apertura libre 730x220 con una superficie tragante de 680 cm2 Collarín de salida longitudinal para facilitar la instalación. Salida horizontal de Ø 200 , | C33: 10 | E33: =C33*D33 -> 0
A35: L5.09 | B35: REJILLA FUNDICION DUCTIL DE 500X300 CLASE C250
B36: CONCEPTO | C36: CANTIDAD | D36: Precio Ud. | E36: TOTAL
B37: Modelo REJILLA TIPO BURGOS rejilla fundición dúctil, carga de rotura superior a 250 kN, rejilla abatible y sistema antivandálico con inscripción AYTO. BURGOS , | C37: 150 | E37: =C37*D37 -> 0
A39: L5.10 | B39: REJILLA FUNDICION DUCTIL DE 500x275 CLASE C250 (570x370x80 C-250)
B40: CONCEPTO | C40: CANTIDAD | D40: Precio Ud. | E40: TOTAL
B41: Rejilla articulada de fundición GE 500-7 según ISO 1083/EN 1563, en Clase C250 según norma EN-124:2015, con certificación AENOR, apertura libre 429x220 mm, dimensión exterior 568x372 mm, altura 80mm. Peso del conjunto 36,9 kg. Rejilla de 499x274 mm, articulada reversible anti-robo con barrotes a 45º, distancia entre barrotes inferior a 25 mm, superficie antideslizante y apertura a 110º, extraíble una vez eliminado el sellado al nivel de la articulación. Superficie tragante 346 cm². Revestimiento de pintura hidrosoluble negra, no tóxica, no inflamable y no contaminante. , | C41: 50 | E41: =C41*D41 -> 0
A43: L5.11 | B43: REJILLA FUNDICION DUCTIL DE 586x357 CLASE C250 (725x400x80 C-250)
B44: CONCEPTO | C44: CANTIDAD | D44: Precio Ud. | E44: TOTAL
B45: Rejilla articulada cautiva de fundición GE 500-7 según ISO 1083/EN 1563, en Clase C250 kN según norma EN-124:2015, con certificación AENOR, apertura libre 550x300 mm, dimensión exterior 725x400 mm, altura 80mm. Peso del conjunto 39,5 kg . Rejilla articulada anti-robo de 586x357 mm, extraíble una vez eliminado el sellado al nivel de la articulación, barrotes rectos, distancia entre barrotes inferior a 30 mm, superficie antideslizante y apertura a 100o. Superficie tragante 1100 cm². Marco monobloque moldeado diseñado para ser instalado pegado a acera. Revestimiento de pintura hidrosoluble negra, no tóxica, no inflamable y no contaminante , | C45: 50 | E45: =C45*D45 -> 0
A47: L5.12 | B47: TAPA Y MARCO 400X400 CLASE C250
B48: CONCEPTO | C48: CANTIDAD | D48: Precio Ud. | E48: TOTAL
B49: Marco y tapa cuadrada defundición GE 500-7 según ISO 1083/EN 1563, en Clase C250 según norma EN-124:2015, con certificación AENOR, apertura libre 300x300 mm, dimensión exterior 400X400 mm, altura 50mm. Tapa de 346x346 mm con relieve antideslizante, equipada con un orificio de llave para manipularla con la ayuda de un pico, gancho. Marco cuadrado monobloque moldeado, provisto de 4 patines de goma clipados permitiendo estabilidad y ausencia de ruido, con garganta hidráulica >6mm, resistente a las subidas de olores. La geometría exterior del marco permite todos los acabados: baldosas, adoquines etc. Posibilidad de marcado en relieve de servicios específicos. Revestimiento de pintura hidrosoluble negra, no tóxica, no inflamable y no contaminante. Anagrama AGUAS DE BURGOS con inscripción Aguas en relieve y antideslizante , | C49: 200 | E49: =C49*D49 -> 0
A51: L5.13 | B51: TAPA Y MARCO 500X500 CLASE C250
B52: CONCEPTO | C52: CANTIDAD | D52: Precio Ud. | E52: TOTAL
B53: Marco y tapa cuadrada de fundición GE 500-7 según ISO 1083/EN 1563, en Clase C250 según norma EN-124:2015, con certificación AENOR, apertura libre 400x400 mm, dimensión exterior 500X500 mm, altura 50mm. Peso del conjunto 27 kg). Tapa de 446x446 mm y 70 mm de altura, con relieve antideslizante, equipada con un orificio de llave para manipularla con la ayuda de un pico, gancho. Marco cuadrado monobloque moldeado, provisto de 4 patines de goma clipados permitiendo estabilidad y ausencia de ruido, con garganta hidráulica >6mm resistente a las subidas de olores. La geometría exterior del marco permite todos los acabados: baldosas, adoquines etc. Posibilidad de marcado en relieve de servicios específicos. Revestimiento de pintura hidrosoluble negra, no tóxica, no inflamable y no contaminante.Anagrama AGUAS DE BURGOS con inscripción Aguas en relieve y antideslizante. . | C53: 20 | E53: =C53*D53 -> 0
A55: L5.14 | B55: TAPA Y MARCO 600X600 CLASE C250
B56: CONCEPTO | C56: CANTIDAD | D56: Precio Ud. | E56: TOTAL
B57: Marco y tapa cuadrada de fundición GE 500-7 según ISO 1083/EN 1563, en Clase C250 según norma EN-124:2015, con certificación AENOR, apertura libre 500x500 mm, dimensión exterior 600X600 mm, altura 50mm. Peso del conjunto 38,91 kg (peso tapa 28 kg). Tapa de 546x546 mm y 80 mm de altura con relieve antideslizante, equipada con 2 orificios de llave simétricamente opuestos para manipularla con la ayuda de un pico, gancho. Marco cuadrado monobloque moldeado, provisto de 4 patines de goma clipados permitiendo estabilidad y ausencia de ruido, con garganta hidráulica >6mm, resistente a las subidas de olores. La geometría exterior del marco permite todos los acabados: baldosas, adoquines etc. Posibilidad de marcado en relieve de servicios específicos. Revestimiento de pintura hidrosoluble negra, no tóxica, no inflamable y no contaminante. Anagrama AGUAS DE BURGOS con inscripción Aguas en relieve y antideslizante . | C57: 20 | E57: =C57*D57 -> 0
A59: L5.15 | B59: TAPA Y MARCO 700X700 CLASE C250
B60: CONCEPTO | C60: CANTIDAD | D60: Precio Ud. | E60: TOTAL
B61: Marco y tapa cuadrada de fundición GE 500-7 según ISO 1083/EN 1563, en Clase C250 según norma EN-124:2015, con certificación AENOR, apertura libre 600x600 mm, dimensión exterior 700X700 mm, altura 50mm. Peso del conjunto 51,81 kg. Tapa de 646x646 mm y 75 mm de altura con relieve antideslizante, equipada con 2 orificios de llave simétricamente opuestos para manipularla con la ayuda de un pico, gancho. Marco cuadrado monobloque moldeado, provisto de 4 patines de goma clipados permitiendo estabilidad y ausencia de ruido, con garganta hidráulica >6mm, resistente a las subidas de olores. La geometría exterior del marco permite todos los acabados: baldosas, adoquines etc. Posibilidad de marcado en relieve de servicios específicos. Revestimiento de pintura hidrosoluble negra, no tóxica, no inflamable y no contaminante.Anagrama AGUAS DE BURGOS con inscripción Aguas en relieve y antideslizante . | C61: 10 | E61: =C61*D61 -> 0
A63: L5.16 | B63: TAPA Y MARCO DE FUNDICION 750X500 CLASE C250
B64: CONCEPTO | C64: CANTIDAD | D64: Precio Ud. | E64: TOTAL
B65: Tapa y marco en fundición GE 500-7 según ISO 1083/EN 1563, en Clase C250 según norma EN-124:2015, con certificación AFNOR, dimensión 744X500 mm, altura 26mm. Peso 39,5 kg . Tapa con dos orificios de llave para su manipulación. Anagrama AGUAS DE BURGOS en relieve antideslizante. , | C65: 2 | E65: =C65*D65 -> 0
A67: L5.17 | B67: ARQUETA GRANITO 1680X660X550
B68: CONCEPTO | C68: CANTIDAD | D68: Precio Ud. | E68: TOTAL
B69: Arqueta de granito modelo Cartuja con dos orificios en el fondo diametros de 50 y 110 para entrada de tuberías y rebaje para inserción de tapas. Granito Gris Quintana abujardado | C69: 2 | E69: =C69*D69 -> 0
A71: L5.18 | B71: FUENTE FUNDICION MODELO CIUDAD
B72: CONCEPTO | C72: CANTIDAD | D72: Precio Ud. | E72: TOTAL
B73: Fuente de fundición de 1 grifo con pileta y rejilla de fundición. Base granito Gris Quintana | C73: 5 | E73: =C73*D73 -> 0
A75: L5.19 | B75: FUENTE ACERO INOX MODELO BURGOS
B76: CONCEPTO | C76: CANTIDAD | D76: Precio Ud. | E76: TOTAL
B77: Fuente acero inoxidable de una pieza con dos grifos uno de ellos apto para discapacitados. Acero Inoxidable AISI 316 acabado mate. | C77: 5 | E77: =C77*D77 -> 0
A79: L5.20 | B79: TAPA Y MARCO DE FUNDICION RELLENABLE 350x350 C-250 (410x410x100 C-250)
B80: CONCEPTO | C80: CANTIDAD | D80: Precio Ud. | E80: TOTAL
B81: Dispositivo cuadrado de fundición para pavimento u hormigón 410X410 Soporte elástico de policloropreno pegado al marco, anti-ruido y anti-desplazamiento. Tapa 350x350 con dos orificios de apertura para manipulación. Altura de relleno de 75 mm Clase de carga C250. | C81: 5 | E81: =C81*D81 -> 0
A83: L5.21 | B83: TAPA Y MARCO DE FUNDICION RELLENABLE 500X500 C-250 (570x570x100 C-250)
B84: CONCEPTO | C84: CANTIDAD | D84: Precio Ud. | E84: TOTAL
B85: Dispositivo cuadrado de fundición para pavimento u hormigón 570X570 Soporte elástico de policloropreno pegado al marco, anti-ruido y anti-desplazamiento. Tapa 500x500 con dos orificios de apertura para manipulación. Altura de relleno de 75 mm Clase de carga C250. | C85: 5 | E85: =C85*D85 -> 0
A87: L5.22 | B87: TAPA Y MARCO DE FUNDICION RELLENABLE 650X650 C-250 (740x740x100 C-250)
B88: CONCEPTO | C88: CANTIDAD | D88: Precio Ud. | E88: TOTAL
B89: Dispositivo cuadrado de fundición para pavimento u hormigón 740X740 Soporte elástico de policloropreno pegado al marco, anti-ruido y anti-desplazamiento. Tapa 650x650 con dos orificios de apertura para manipulación. Altura de relleno de 75 mm Clase de carga C250. | C89: 20 | E89: =C89*D89 -> 0
A91: L5.23 | B91: TAPA Y MARCO ACERO GALVANIZADO 1000x1000 C-250
B92: CONCEPTO | C92: CANTIDAD | D92: Precio Ud. | E92: TOTAL
B93: Dispositivo en acero galvanizado con muelle de asistencia en la apertura, manipulación por una sola persona (esfuerzo de apertura inferior a 25 kg) Cierre con llave codificado. Superficie antideslizante (chapa laminada) Acero S235 JR-NF EN 10025, galvanizado en caliente según norma EN ISO 1461 Espesor medio de 70um Ejes y tornillería y resortes de Torsión en acero inoxidable 304 Tapa y marco con resistencia de 250 kN | C93: 5 | E93: =C93*D93 -> 0
A95: L5.24 | B95: TAPA Y MARCO ACERO GALVANIZADO 1300x1000 C-250
B96: CONCEPTO | C96: CANTIDAD | D96: Precio Ud. | E96: TOTAL
B97: Dispositivo en acero galvanizado con muelle de asistencia en la apertura, manipulación por una sola persona (esfuerzo de apertura inferior a 25 kg) Cierre con llave codificado. Superficie antideslizante (chapa laminada) Acero S235 JR-NF EN 10025, galvanizado en caliente según norma EN ISO 1461 Espesor medio de 70um Ejes y tornillería y resortes de Torsión en acero inoxidable 304 Tapa y marco con resistencia de 250 kN. | C97: 5 | E97: =C97*D97 -> 0
A99: L5.25 | B99: TAPA Y MARCO ACERO GALVANIZADO 1500x900 C-250
B100: CONCEPTO | C100: CANTIDAD | D100: Precio Ud. | E100: TOTAL
B101: Dispositivo en acero galvanizado con muelle de asistencia en la apertura, manipulación por una sola persona (esfuerzo de apertura inferior a 25 kg) Cierre con llave codificado. Superficie antideslizante (chapa laminada) Acero S235 JR-NF EN 10025, galvanizado en caliente según norma EN ISO 1461 Espesor medio de 70um Ejes y tornillería y resortes de Torsión en acero inoxidable 304 Tapa y marco con resistencia de 250 kN | C101: 5 | E101: =C101*D101 -> 0
A103: L5.26 | B103: TAPA Y MARCO ACERO GALVANIZADO 2000x1000 C-250
B104: CONCEPTO | C104: CANTIDAD | D104: Precio Ud. | E104: TOTAL
B105: Dispositivo en acero galvanizado con muelle de asistencia en la apertura, manipulación por una sola persona (esfuerzo de apertura inferior a 25 kg) Cierre con llave codificado. Superficie antideslizante (chapa laminada) Acero S235 JR-NF EN 10025, galvanizado en caliente según norma EN ISO 1461 Espesor medio de 70um Ejes y tornillería y resortes de Torsión en acero inoxidable 304 Tapa y marco con resistencia de 250 kN | C105: 5 | E105: =C105*D105 -> 0
A107: L5.27 | B107: TAPA Y MARCO REGISTRO ALUMINIO 40 X40 ESTANCO
B108: CONCEPTO | C108: CANTIDAD | D108: Precio Ud. | E108: TOTAL
B109: Tapa y marco de aluminio para registro estanco de 40x40, mecanizable. . | C109: 20 | E109: =C109*D109 -> 0
A111: L5.28 | B111: FUENTE DE 2 GRIFOS A DOS ALTURAS CON UNA ADAPTADA PARA PERROS
B112: CONCEPTO | C112: CANTIDAD | D112: Precio Ud. | E112: TOTAL
B113: Fuente con 2 grifos y dos platos instalados a diferentes alturas, fabricado en acero con tratamiento especial frente a la corrosion. Altura aproximada de un metro y cuerpo estrecho 10x20 | C113: 5 | E113: =C113*D113 -> 0
A115: L5.29 | B115: SUMIDEROS SIFONICO EN PVC TAMAÑO 25X25 Y SALIDA HORIZONTAL
B116: CONCEPTO | C116: CANTIDAD | D116: Precio Ud. | E116: TOTAL
B117: Sumidero sifonico de PVC gris en tamaño 25x25 cm con altura reducida y salida horizontal en diametro 110. Rejilla sifonica en PVC incluida. | C117: 40 | E117: =C117*D117 -> 0
A119: L5.30 | B119: SUMIDEROS SIFONICO EN POLIPROPILENO TAMAÑO 50X50 Y SALIDA HORIZONTAL
B120: CONCEPTO | C120: CANTIDAD | D120: Precio Ud. | E120: TOTAL
B121: Cajon sumidero Sifonico de polipropileno en tamaño 50x50 cm con altura de 60cm y hueco de salida adaptable a tamaños de diametro en 160 y 200. La placa-teja sifonica sera extraible y estara incluida. | C121: 40 | E121: =C121*D121 -> 0
A123: L5.31 | B123: SUMIDERO SIFONICO EN POLIPROPILENO ESTRECHO EN TAMAÑO 47X24 Y SALIDA HORIZONTAL
B124: CONCEPTO | C124: CANTIDAD | D124: Precio Ud. | E124: TOTAL
B125: Cajon sumidero sifonico estrecho de polipropileno en tamaño 47x24 cm con altura 50cm y hueco de salida en diametro. El sistema sifonico sera de codo y estara incluido. | C125: 40 | E125: =C125*D125 -> 0
A127: L5.32 | B127: SUMIDERO SIFONICO EN POLIPROPILENO ESTRECHO EN TAMAÑO 47X24 Y SALIDA HORIZONTAL
B128: CONCEPTO | C128: CANTIDAD | D128: Precio Ud. | E128: TOTAL
B129: Cajon sumidero sifonico estrecho de polipropileno en tamaño 47x24 cm con altura 50 cm y hueco de salida en diametro. El sistema sifonico sera de codo y estara incluido. | C129: 40 | E129: =C129*D129 -> 0
A131: L5.33 | B131: SUMIDERO SIFONICO EN HORMIGON ESTRECHO EN TAMAÑO INTERIOR 46X26 Y SALIDA HORIZONTAL
B132: CONCEPTO | C132: CANTIDAD | D132: Precio Ud. | E132: TOTAL
B133: Cajon sumidero sifonico estrecho de hormigon en tamaño interior 46x26 con altura de 50 o 70 cm y hueco de salida horizontal en diametro 160-200. La placa sifonica sera extraible y estara incluida. | C133: 40 | E133: =C133*D133 -> 0
...

Sheet LOTE 6
B1: LOTE NÚM. 6 - MATERIALES DE CONSTRUCCION
A3: L6.01 | B3: SACO CEMENTO RAPIDO.
B4: CONCEPTO | C4: Cantidad | D4: Precio Ud. | E4: TOTAL
B5: Ligante hidráulico natural sin aditivos de fraguado rápido y regulable de alta resistencia inicial e impermeable. Formato 25 kg. . | C5: 880 | E5: =+C5*D5 -> 0
A7: L6.02 | B7: SACO CEMENTO.
B8: CONCEPTO | C8: Cantidad | D8: Precio Ud. | E8: TOTAL
B9: Cemento puzolánico tipo CEM IV con adición de ceniza volante de resistencia media 32,5 con resistencia inicial normal.Formato 35 kg. | C9: 1320 | E9: =+C9*D9 -> 0
A11: L6.03 | B11: MORTERO REPARACION CON PASIVANTE.
B12: CONCEPTO | C12: Cantidad | D12: Precio Ud. | E12: TOTAL
B13: Mortero mineral a base de ligante con reacción cristalina para la pasivación , reparación, alisado y protección monolítica de estructuras de hormigón degradado. Tixotrópico. Formato 25 kg. . | C13: 66 | E13: =+C13*D13 -> 0
A15: L6.04 | B15: MORTERO SECO.
B16: CONCEPTO | C16: Cantidad | D16: Precio Ud. | E16: TOTAL
B17: Mortero para albañilería a base de cemento, cal hidratada, áridos y aditivos químicos para una gran plasticidad, adherencia, trabajabilidad y excelentes resistencias mecánicas.Formato 25 kg. . | C17: 275 | E17: =+C17*D17 -> 0
A19: L6.05 | B19: MORTERO SECO RÁPIDO.
B20: CONCEPTO | C20: Cantidad | D20: Precio Ud. | E20: TOTAL
B21: Mortero seco especial a base de conglomerantes hidráulicos, áridos de gran pureza, granulometría seleccionada y aditivos químicos.Buena plasticidad, adherencia, altas resistencias mecánicas y fraguado rápido. Formato 25 kg. , | C21: 55 | E21: =+C21*D21 -> 0
A23: L6.06 | B23: MORTERO DE MUY ALTAS PRESTACIONES PARA RELLENO DE HASTA 250 mm.
B24: CONCEPTO | C24: Cantidad | D24: Precio Ud. | E24: TOTAL
B25: Mortero de expansión controlada, autonivelante, sin retracción y de muy altas resistencias para relleno y anclajes.Impermeable al agua, aceites, grasas. Espesores hasta 25 cm. Formato 25 kg. . | C25: 110 | E25: =+C25*D25 -> 0
A27: L6.07 | B27: MORTERO IMPERMEABLE FLEXIBLE.
B28: CONCEPTO | C28: Cantidad | D28: Precio Ud. | E28: TOTAL
B29: Membrana cementosa impermeable flexible monocomponente.Excelente adherencia, transpirable, alta resistencia a la difusión del dióxido de carbono y apto para contacto con agua potable.Formato 15 kg. | C29: 110 | E29: =+C29*D29 -> 0
A31: L6.08 | B31: MORTERO DE APOYO Y FIJACIÓN DE SECADO RÁPIDO.
B32: CONCEPTO | C32: Cantidad | D32: Precio Ud. | E32: TOTAL
B33: Mortero cementoso, de un componente, predosificado para trabajos de fijación y apoyo para trabajos de mantenimiento de calles, buena adherencia en hormigón y asfalto. Formato 25 kg. . | C33: 110 | E33: =+C33*D33 -> 0
A35: L6.09 | B35: HORMIGON SECO.
B36: CONCEPTO | C36: Cantidad | D36: Precio Ud. | E36: TOTAL
B37: Hormigón seco 25 N/mm2 a base de cemento, áridos y aditivos químicos.Granulometría máxima del árido 8 mm. | C37: 330 | E37: =+C37*D37 -> 0
A39: L6.10 | B39: ASFALTO EN FRIO.
B40: CONCEPTO | C40: Cantidad | D40: Precio Ud. | E40: TOTAL
B41: Aglomerado asfáltico de aplicación en frio a base de emulsiones bituminosas y áridos especiales.Estable, gran elasticidad y buena adherencia.Embase 25 kg, . | C41: 220 | E41: =+C41*D41 -> 0
A43: L6.11 | B43: LADRILLO MACIZO 10.
B44: CONCEPTO | C44: Cantidad | D44: Precio Ud. | E44: TOTAL
B45: Ladrillo de arcilla cocida para la fábrica de albañilería protegida. Medidas 238x98x112. . | C45: 26501 | E45: =+C45*D45 -> 0
D47: TOTAL LOTE 6 | E47: =SUM(E5:E45) -> 0

Sheet Resumen
A1: RESUMEN DE LOS LOTES | B1: TOTAL
A3: =+'LOTE 1'!B1 -> LOTE NÚM. 1 - TUBERÍA DE FUNDICIÓN DÚCTIL, PVC-O Y PIEZAS ESPECIALES | B3: =+'LOTE 1'!F485 -> 0
A4: varios lote 1 | B4: 8000
A5: =+'LOTE 2'!B1 -> LOTE NÚM. 2 - MATERIAL PARA REPARACIONES, ACOMETIDAS Y BATERÍAS DE CONTADORES; VALVULERÍA Y PIEZAS ESPECIALES; Tuberia y accesorios polietileno PE40 PE100 | B5: =+'LOTE 2'!E1206 -> 0
A6: varios lote 2 | B6: 5000
A7: =+'LOTE 3'!B1 -> LOTE NÚM. 3 - TUBERÍA DE SANEAMIENTO Y ACCESORIOS DE PVC NO PLASTIFICADO, NO ESTRUCTURADO COLOR TEJA CON JUNTA ELÁSTICA | B7: =+'LOTE 3'!D207 -> 0
A8: varios lote 3 | B8: 8000
A9: =+'LOTE 4'!B1 -> LOTE NÚM. 4 - TUBERÍA Y ACCESORIOS DE PRFV | B9: =+'LOTE 4'!E93 -> 0
A10: varios lote 4 | B10: 8000
A11: =+'LOTE 5'!B1 -> LOTE NÚM. 5 - MARCOS Y TAPAS DE FUNDICION Y ACERO GALVANIZADO | B11: ='LOTE 5'!E155 -> 0
A12: varios lote 5 | B12: 5000
A13: =+'LOTE 6'!B1 -> LOTE NÚM. 6 - MATERIALES DE CONSTRUCCION | B13: =+'LOTE 6'!E47 -> 0
A14: varios lote 6 | B14: 5000
A15: TOTAL | B15: =SUM(B3:B14) -> 39000
