Workbook

Sheet Oferta
A2: RESUMEN DE LAS FAMILIAS
A4: ='Materiales concurso'!B1 -> FAMILIA NÚM. 1 - TUBERÍA DE FUNDICIÓN DÚCTIL, PVC-O Y PIEZAS ESPECIALES | B4: ='Materiales concurso'!D484 -> #REF!
A5: =+'Materiales concurso'!B487 -> FAMILIA NÚM. 2 - MATERIAL PARA REPARACIONES, ACOMETIDAS Y BATERÍAS DE CONTADORES | B5: =+'Materiales concurso'!D1002 -> #REF!
A6: =+'Materiales concurso'!B1006 -> FAMILIA NÚM. 3 - VALVULERÍA Y PIEZAS ESPECIALES | B6: =+'Materiales concurso'!D1376 -> #REF!
A7: =+'Materiales concurso'!B1381 -> FAMILIA NÚM. 4 - TUBERÍA Y ACCESORIOS POLIETILENO PE-40 PE-100 | B7: =+'Materiales concurso'!D1694 -> #REF!
A8: =+'Materiales concurso'!B1698 -> FAMILIA NÚM. 5 - TUBERÍA DE SANEAMIENTO Y ACCESORIOS DE PVC NO PLASTIFICADO, NO ESTRUCTURADO COLOR TEJA CON JUNTA ELÁSTICA | B8: =+'Materiales concurso'!D1897 -> #REF!
A9: =+'Materiales concurso'!B1901 -> FAMILIA NÚM. 6 - TUBERÍA Y ACCESORIOS DE PRFV | B9: =+'Materiales concurso'!D1985 -> #REF!
B10: =SUM(B4:B9) -> #REF!
A14: La baja se aplicará a los precio unitarios de la familia correspondiente de la familia de precios unitarios
A16: Familia | B16: Cantidad estimada | C16: Ponderación | D16: Baja | E16: Oferta
A17: FAM. 1 - TUBERÍA DE FUNDICIÓN DÚCTIL, PVC-O Y PIEZAS ESPECIALES | B17: 356739.8 | C17: 0.38707617
A18: FAM. 2 - MATERIAL PARA REPARACIONES, ACOMETIDAS Y BATERÍAS DE CONTADORES | B18: 34159.964 | C18: 0.037064853
A19: FAM. 3 - VALVULERÍA Y PIEZAS ESPECIALES | B19: 107744.48 | C19: 0.11690683
A20: FAM. 4 - TUBERÍA Y ACCESORIOS POLIETILENO PE-40 PE-100 | B20: 27280.585 | C20: 0.029600466
A21: FAM. 5 - TUBERÍA DE SANEAMIENTO Y ACCESORIOS DE PVC NO PLASTIFICADO, NO ESTRUCTURADO COLOR TEJA CON JUNTA ELÁSTICA | B21: 244901.87 | C21: 0.26572779
A22: FAM. 6 - TUBERÍA Y ACCESORIOS DE PRFV | B22: 119580.23 | C22: 0.12974907
A23: varios* | B23: 31219.933 | C23: 0.033874808 | D23: 0 | E23: 31219.933 | F23: No se valorará la baja al no estar definidos los materiales
B24: 921626.86 | E24: =SUM(E17:E23) -> 31219.933
A28: *La partida "varios" debe contemplar materiales tales como tuberías de función dúctil, pvc, valvulería, piezas especiales, tornilería asociada al montaje de tubería, tubería de saneamiento. Es decir, todos los materiales pertenecientes a las familias de compras del concurso que no han sido definidos previamiente. El material que se suministre en ese concepto se facturará como "varios consumibles de tubería* + "descrpción del artículo"

Sheet Materiales concurso
B1: FAMILIA NÚM. 1 - TUBERÍA DE FUNDICIÓN DÚCTIL, PVC-O Y PIEZAS ESPECIALES
B3: 1.01 Tubería fundición dúctil clase preferente C40-C30 según norma UNE EN-545:2011, recubrimiento interior plastico de poliuretano o similar, con parte proporcional de juntas incluidas. Conexión campana enchufe. Revestimiento exterior Zinc Aluminio 400 gr/m2.
B4: Concepto | C4: Precio Unitario base de licitación | D4: Precio unitario tras la baja
B5: ML Tubería DN-80 mm. | C5: 41
B6: ML Tubería DN-100 mm. | C6: 50.445
B7: ML Tubería DN-150 mm. | C7: 54.984
B8: ML Tubería DN-200 mm. | C8: 67.454
B9: ML Tubería DN-250 mm. | C9: 88.911
B10: ML Tubería DN-300 mm. | C10: 105.7425
B11: ML Tubería DN-350 mm. | C11: 132.55
B12: ML Tubería DN-400 mm. | C12: 158.24
B13: ML Tubería DN-450 mm. | C13: 220
B14: ML Tubería DN-500 mm. | C14: 208.0925
B15: ML Tubería DN-600 mm. | C15: 263.7765
B16: ML Tubería DN-800 mm. | C16: 380
B18: 1.02 Empalme de fundicion ductil, conexión Brida enchufe, recubrimiento interior y exterior de epoxi, esmalte o similar aquacoat, conjuntos completos, equipados con contrabridas, bulones y juntas EPDM tanto para brida y contrabrida PFA 16 bar. Brida Orientable. Norma UNE EN-545:2011
B19: Concepto | C19: Precio Unitario base de licitación | D19: Precio unitario ofertado
B20: UD. Empalme Brida-Enchufe 80 mm. | C20: 62.011488
B21: UD. Empalme Brida-Enchufe 100 mm. | C21: 68.852652
B22: UD. Empalme Brida-Enchufe 150 mm. | C22: 95.367888
B23: UD. Empalme Brida-Enchufe 200 mm. | C23: 132.6567
B24: UD. Empalme Brida-Enchufe 250 mm. | C24: 184.94553
B25: UD. Empalme Brida-Enchufe 300 mm. | C25: 266.97211
B26: UD. Empalme Brida-Enchufe 350 mm. | C26: 298.75507
B27: UD. Empalme Brida-Enchufe 400 mm. | C27: 420.3144
B28: UD. Empalme Brida-Enchufe 450 mm. | C28: 517.22563
B29: UD. Empalme Brida-Enchufe 500 mm. | C29: 629.00607
B30: UD. Empalme Brida-Enchufe 600 mm. | C30: 913.88359
B31: UD. Empalme Brida-Enchufe 800 mm. | C31: 1229.8
B33: 1.03 Empalme de fundicion ductil, conexión Brida Liso, accesorios recubrimiento interior y exterior de epoxi, esmalte o similar aquacoat, conjuntos completos, equipados con junta EPDM para brida PFA 16 bar. Brida Orientable. Norma UNE EN-545:2011
B34: Concepto | C34: Precio Unitario base de licitación | D34: Precio unitario ofertado
B35: UD. Empalme Brida-Liso 80 mm. | C35: 28.728
B36: UD. Empalme Brida-Liso 100 mm. | C36: 34.2
B37: UD. Empalme Brida-Liso 150 mm. | C37: 67.716
B38: UD. Empalme Brida-Liso 200 mm. | C38: 84.474
B39: UD. Empalme Brida-Liso 250 mm. | C39: 145.35
B40: UD. Empalme Brida-Liso 300 mm. | C40: 169.29
B41: UD. Empalme Brida-Liso 350 mm. | C41: 285.228
B42: UD. Empalme Brida-Liso 400 mm. | C42: 321.48
B43: UD. Empalme Brida-Liso 450 mm. | C43: 319.77
B44: UD. Empalme Brida-Liso 500 mm. | C44: 541.2
B45: UD. Empalme Brida-Liso 600 mm. | C45: 707.94
B46: UD. Empalme Brida-Liso 800 mm. | C46: 544.5
B48: 1.04 Junta para acerrojar tuberia de fundicion ductil, anillo de junta EPDM PFA 16 bar con injertos metalicos antitraccion para alojar en cabeza de tubos.
B49: Concepto | C49: Precio Unitario base de licitación | D49: Precio unitario ofertado
B50: UD. Junta EPDM con injertos para acerrojar tuberia 80 mm | C50: 24.460524
B51: UD. Junta EPDM con injertos para acerrojar tuberia 100 mm | C51: 26.29638
B52: UD. Junta EPDM con injertos para acerrojar tuberia 150 mm | C52: 38.16648
B53: UD. Junta EPDM con injertos para acerrojar tuberia 200 mm | C53: 49.3416
B54: UD. Junta EPDM con injertos para acerrojar tuberia 250 mm | C54: 51.65226
B55: UD. Junta EPDM con injertos para acerrojar tuberia 300 mm | C55: 73.532052
B56: UD. Junta EPDM con injertos para acerrojar tuberia 350 mm | C56: 89.415216
B57: UD. Junta EPDM con injertos para acerrojar tuberia 400 mm | C57: 99.414612
B58: UD. Junta EPDM con injertos para acerrojar tuberia 450 mm | C58: 140.15707
B59: UD. Junta EPDM con injertos para acerrojar tuberia 500 mm | C59: 157.30427
B60: UD. Junta EPDM con injertos para acerrojar tuberia 600 mm | C60: 192.32096
B62: 1.05 Conjunto para acerrojar accesorios de fundicion ductil, compuesto por anillo EPDM con injertos metalicos, contrabridas y bulones.
B63: Concepto | C63: Precio Unitario base de licitación | D63: Precio unitario ofertado
B64: UD. Conjunto para acerrojar accesorios. 80 mm | C64: 60.30156
B65: UD. Conjunto para acerrojar accesorios. 100 mm | C65: 67.32924
B66: UD. Conjunto para acerrojar accesorios. 150 mm | C66: 96.46296
B67: UD. Conjunto para acerrojar accesorios. 200 mm | C67: 173.79437
B68: UD. Conjunto para acerrojar accesorios. 250 mm | C68: 268.96848
B69: UD. Conjunto para acerrojar accesorios. 300 mm | C69: 321.41472
B71: 1.06 Codos Enchufe-Enchufe de fundicion ductil, recubrimiento interior y exterior de epoxi, esmalte o similar aquacoat, conjuntos completos equipados con contrabidas, bulones y juntas EPDM para contrabrida PFA > 25 bar. Norma UNE EN-545:2011. Para cualquier angulo 90-45-22-11º
B72: Concepto | C72: Precio Unitario base de licitación | D72: Precio unitario ofertado
B73: UD. Codo Enchufe-Enchufe + juntas mecanicas 80 mm | C73: 93.1095
B74: UD. Codo Enchufe-Enchufe + juntas mecanicas 100 mm | C74: 101.09319
B75: UD. Codo Enchufe-Enchufe + juntas mecanicas 150 mm | C75: 152.59345
B76: UD. Codo Enchufe-Enchufe + juntas mecanicas 200 mm | C76: 203.7317
B77: UD. Codo Enchufe-Enchufe + juntas mecanicas 250 mm | C77: 256.641
B78: UD. Codo Enchufe-Enchufe + juntas mecanicas 300 mm | C78: 430.5646
B79: UD. Codo Enchufe-Enchufe + juntas mecanicas 350 mm | C79: 584.59698
B80: UD. Codo Enchufe-Enchufe + juntas mecanicas 400 mm | C80: 812.00381
B81: UD. Codo Enchufe-Enchufe + juntas mecanicas 450 mm | C81: 1019.7832
B82: UD. Codo Enchufe-Enchufe + juntas mecanicas 500 mm | C82: 1277.9364
B83: UD. Codo Enchufe-Enchufe + juntas mecanicas 600 mm | C83: 1400.56
B85: 1.07 Codos Brida-Brida de fundicion ductil, recubrimiento interior y exterior de epoxi, esmalte o similar aquacoat, conjuntos completos equipados con juntas EPDM para brida. PFA 16 bar Norma UNE EN-545:2011. Para cualquier angulo 90-45-22-11º
B86: Concepto | C86: Precio Unitario base de licitación | D86: Precio unitario ofertado
B87: UD. Codo Brida-Brida + juntas 80 mm | C87: 34.608
B88: UD. Codo Brida-Brida + juntas 100 mm | C88: 41.055
B89: UD. Codo Brida-Brida + juntas 150 mm | C89: 83.082
B90: UD. Codo Brida-Brida + juntas 200 mm | C90: 137.25
B91: UD. Codo Brida-Brida + juntas 250 mm | C91: 189.09
B92: UD. Codo Brida-Brida + juntas 300 mm | C92: 320.982
B93: UD. Codo Brida-Brida + juntas 350 mm | C93: 420.75
B94: UD. Codo Brida-Brida + juntas 400 mm | C94: 470.925
B95: UD. Codo Brida-Brida + juntas 500 mm | C95: 749.28
B96: UD. Codo Brida-Brida + juntas 600 mm | C96: 1387.14
B98: 1.08 Te Enchufe-Enchufe a Brida de fundicion ductil, recubrimiento interior y exterior de epoxi, esmalte o similar aquacoat. conjuntos equipados con contrabidas, bulones y juntas EPDM para contrabrida y brida PFA 16 bar. Derivacion con Brida orientable de cualquier diametro. Norma UNE EN-545:2011.
B99: Concepto | C99: Precio Unitario base de licitación | D99: Precio unitario ofertado
B100: UD. Te E/E salida Brida + juntas 80 mm | C100: 111.3453
B101: UD. Te E/E salida Brida + juntas 100 mm | C101: 135.12866
B102: UD. Te E/E salida Brida + juntas 150 mm | C102: 187.30364
B103: UD. Te E/E salida Brida + juntas 200 mm | C103: 262.55572
B104: UD. Te E/E salida Brida + juntas 250 mm | C104: 376.3881
B105: UD. Te E/E salida Brida + juntas 300 mm | C105: 903.91937
B106: UD. Te E/E salida Brida + juntas 350 mm | C106: 589.08267
B107: UD. Te E/E salida Brida + juntas 400 mm | C107: 881.32361
B108: UD. Te E/E salida Brida + juntas 450 mm | C108: 1081.5143
...
