Workbook

Sheet Oferta
A2: RESUMEN DE LAS FAMILIAS
A4: ='Materiales concurso'!B1 -> FAMILIA NÚM. 1 - TUBERÍA DE FUNDICIÓN DÚCTIL, PVC-O Y PIEZAS ESPECIALES | B4: ='Materiales concurso'!D484 -> #REF!
A5: =+'Materiales concurso'!B487 -> FAMILIA NÚM. 2 - MATERIAL PARA REPARACIONES, ACOMETIDAS Y BATERÍAS DE CONTADORES | B5: =+'Materiales concurso'!D1002 -> #REF!
A6: =+'Materiales concurso'!B1006 -> FAMILIA NÚM. 3 - VALVULERÍA Y PIEZAS ESPECIALES | B6: =+'Materiales concurso'!D1376 -> #REF!
A7: =+'Materiales concurso'!B1381 -> FAMILIA NÚM. 4 - TUBERÍA Y ACCESORIOS POLIETILENO PE-40 PE-100 | B7: =+'Materiales concurso'!D1694 -> #REF!
A8: =+'Materiales concurso'!B1698 -> FAMILIA NÚM. 5 - TUBERÍA DE SANEAMIENTO Y ACCESORIOS DE PVC NO PLASTIFICADO, NO ESTRUCTURADO COLOR TEJA CON JUNTA ELÁSTICA | B8: =+'Materiales concurso'!D1897 -> #REF!
A9: =+'Materiales concurso'!B1901 -> FAMILIA NÚM. 6 - TUBERÍA Y ACCESORIOS DE PRFV | B9: =+'Materiales concurso'!D1985 -> #REF!
B10: =SUM(B4:B9) -> #REF!
A14: La baja se aplicará a los precio unitarios de la familia correspondiente de la familia de precios unitarios
A16: Familia | B16: Cantidad estimada | C16: Ponderación | D16: Baja | E16: Oferta
A17: FAM. 1 - TUBERÍA DE FUNDICIÓN DÚCTIL, PVC-O Y PIEZAS ESPECIALES | B17: 356739.8 | C17: 0.38707617
A18: FAM. 2 - MATERIAL PARA REPARACIONES, ACOMETIDAS Y BATERÍAS DE CONTADORES | B18: 34159.964 | C18: 0.037064853
A19: FAM. 3 - VALVULERÍA Y PIEZAS ESPECIALES | B19: 107744.48 | C19: 0.11690683
A20: FAM. 4 - TUBERÍA Y ACCESORIOS POLIETILENO PE-40 PE-100 | B20: 27280.585 | C20: 0.029600466
A21: FAM. 5 - TUBERÍA DE SANEAMIENTO Y ACCESORIOS DE PVC NO PLASTIFICADO, NO ESTRUCTURADO COLOR TEJA CON JUNTA ELÁSTICA | B21: 244901.87 | C21: 0.26572779
A22: FAM. 6 - TUBERÍA Y ACCESORIOS DE PRFV | B22: 119580.23 | C22: 0.12974907
A23: varios* | B23: 31219.933 | C23: 0.033874808 | D23: 0 | E23: 31219.933 | F23: No se valorará la baja al no estar definidos los materiales
B24: 921626.86 | E24: =SUM(E17:E23) -> 31219.933
A28: *La partida "varios" debe contemplar materiales tales como tuberías de función dúctil, pvc, valvulería, piezas especiales, tornilería asociada al montaje de tubería, tubería de saneamiento. Es decir, todos los materiales pertenecientes a las familias de compras del concurso que no han sido definidos previamiente. El material que se suministre en ese concepto se facturará como "varios consumibles de tubería* + "descrpción del artículo"

Sheet Materiales concurso
B1: FAMILIA NÚM. 1 - TUBERÍA DE FUNDICIÓN DÚCTIL, PVC-O Y PIEZAS ESPECIALES
B3: 1.01 Tubería fundición dúctil clase preferente C40-C30 según norma UNE EN-545:2011, recubrimiento interior plastico de poliuretano o similar, con parte proporcional de juntas incluidas. Conexión campana enchufe. Revestimiento exterior Zinc Aluminio 400 gr/m2.
B4: Concepto | C4: Precio Unitario base de licitación | D4: Precio unitario tras la baja
B5: ML Tubería DN-80 mm. | C5: 41
B6: ML Tubería DN-100 mm. | C6: 50.445
B7: ML Tubería DN-150 mm. | C7: 54.984
B8: ML Tubería DN-200 mm. | C8: 67.454
B9: ML Tubería DN-250 mm. | C9: 88.911
B10: ML Tubería DN-300 mm. | C10: 105.7425
B11: ML Tubería DN-350 mm. | C11: 132.55
B12: ML Tubería DN-400 mm. | C12: 158.24
B13: ML Tubería DN-450 mm. | C13: 220
B14: ML Tubería DN-500 mm. | C14: 208.0925
B15: ML Tubería DN-600 mm. | C15: 263.7765
B16: ML Tubería DN-800 mm. | C16: 380
B18: 1.02 Empalme de fundicion ductil, conexión Brida enchufe, recubrimiento interior y exterior de epoxi, esmalte o similar aquacoat, conjuntos completos, equipados con contrabridas, bulones y juntas EPDM tanto para brida y contrabrida PFA 16 bar. Brida Orientable. Norma UNE EN-545:2011
B19: Concepto | C19: Precio Unitario base de licitación | D19: Precio unitario ofertado
B20: UD. Empalme Brida-Enchufe 80 mm. | C20: 62.011488
B21: UD. Empalme Brida-Enchufe 100 mm. | C21: 68.852652
B22: UD. Empalme Brida-Enchufe 150 mm. | C22: 95.367888
B23: UD. Empalme Brida-Enchufe 200 mm. | C23: 132.6567
B24: UD. Empalme Brida-Enchufe 250 mm. | C24: 184.94553
B25: UD. Empalme Brida-Enchufe 300 mm. | C25: 266.97211
B26: UD. Empalme Brida-Enchufe 350 mm. | C26: 298.75507
B27: UD. Empalme Brida-Enchufe 400 mm. | C27: 420.3144
B28: UD. Empalme Brida-Enchufe 450 mm. | C28: 517.22563
B29: UD. Empalme Brida-Enchufe 500 mm. | C29: 629.00607
B30: UD. Empalme Brida-Enchufe 600 mm. | C30: 913.88359
B31: UD. Empalme Brida-Enchufe 800 mm. | C31: 1229.8
B33: 1.03 Empalme de fundicion ductil, conexión Brida Liso, accesorios recubrimiento interior y exterior de epoxi, esmalte o similar aquacoat, conjuntos completos, equipados con junta EPDM para brida PFA 16 bar. Brida Orientable. Norma UNE EN-545:2011
B34: Concepto | C34: Precio Unitario base de licitación | D34: Precio unitario ofertado
B35: UD. Empalme Brida-Liso 80 mm. | C35: 28.728
B36: UD. Empalme Brida-Liso 100 mm. | C36: 34.2
B37: UD. Empalme Brida-Liso 150 mm. | C37: 67.716
B38: UD. Empalme Brida-Liso 200 mm. | C38: 84.474
B39: UD. Empalme Brida-Liso 250 mm. | C39: 145.35
B40: UD. Empalme Brida-Liso 300 mm. | C40: 169.29
B41: UD. Empalme Brida-Liso 350 mm. | C41: 285.228
B42: UD. Empalme Brida-Liso 400 mm. | C42: 321.48
B43: UD. Empalme Brida-Liso 450 mm. | C43: 319.77
...
