Workbook

Sheet LOTE 1
C1: LOTE NÚM. 1 - TUBERÍA DE FUNDICIÓN DÚCTIL, PVC-O Y PIEZAS ESPECIALES
B3: L1.01 | C3: Tubería fundición dúctil clase preferente C40-C30 según norma UNE EN-545:2011, recubrimiento interior plastico de poliuretano o similar, con parte proporcional de juntas incluidas. Conexión campana enchufe. Revestimiento exterior Zinc Aluminio 400 gr/m2. | H3: =SUM(F5:F16) -> 449592
C4: Concepto | D4: Cantidad | E4: Precio Unitario | F4: TOTAL | H4: Marca/s ofertada/s
B5: ML | C5: Tubería DN-80 mm. | D5: 6 | E5: 45 | F5: =D5*E5 -> 270
B6: ML | C6: Tubería DN-100 mm. | D6: 150 | E6: 69 | F6: =D6*E6 -> 10350
B7: ML | C7: Tubería DN-150 mm. | D7: 1200 | E7: 79 | F7: =D7*E7 -> 94800
B8: ML | C8: Tubería DN-200 mm. | D8: 1500 | E8: 91 | F8: =D8*E8 -> 136500
B9: ML | C9: Tubería DN-250 mm. | D9: 6 | E9: 121 | F9: =D9*E9 -> 726
B10: ML | C10: Tubería DN-300 mm. | D10: 900 | E10: 148 | F10: =D10*E10 -> 133200
B11: ML | C11: Tubería DN-350 mm. | D11: 6 | E11: 178 | F11: =D11*E11 -> 1068
B12: ML | C12: Tubería DN-400 mm. | D12: 300 | E12: 216 | F12: =D12*E12 -> 64800
B13: ML | C13: Tubería DN-450 mm. | D13: 6 | E13: 244 | F13: =D13*E13 -> 1464
B14: ML | C14: Tubería DN-500 mm. | D14: 6 | E14: 263 | F14: =D14*E14 -> 1578
B15: ML | C15: Tubería DN-600 mm. | D15: 6 | E15: 351 | F15: =D15*E15 -> 2106
B16: ML | C16: Tubería DN-800 mm. | D16: 6 | E16: 455 | F16: =D16*E16 -> 2730
B18: L1.02 | C18: Empalme de fundicion ductil, conexión Brida enchufe, recubrimiento interior y exterior de epoxi, esmalte o similar aquacoat, conjuntos completos, equipados con contrabridas, bulones y juntas EPDM tanto para brida y contrabrida PFA 16 bar. Brida Orientable. Norma UNE EN-545:2011 | H18: =SUM(F20:F31) -> 27301
C19: Concepto | D19: Cantidad | E19: Precio Unitario | F19: TOTAL | H19: Marca/s ofertada/s
B20: UD. | C20: Empalme Brida-Enchufe 80 mm. | D20: 5 | E20: 80 | F20: =++D20*E20 -> 400
B21: UD. | C21: Empalme Brida-Enchufe 100 mm. | D21: 30 | E21: 81 | F21: =++D21*E21 -> 2430
B22: UD. | C22: Empalme Brida-Enchufe 150 mm. | D22: 50 | E22: 113 | F22: =++D22*E22 -> 5650
B23: UD. | C23: Empalme Brida-Enchufe 200 mm. | D23: 40 | E23: 156 | F23: =++D23*E23 -> 6240
B24: UD. | C24: Empalme Brida-Enchufe 250 mm. | D24: 1 | E24: 236 | F24: =++D24*E24 -> 236
B25: UD. | C25: Empalme Brida-Enchufe 300 mm. | D25: 15 | E25: 321 | F25: =++D25*E25 -> 4815
B26: UD. | C26: Empalme Brida-Enchufe 350 mm. | D26: 1 | E26: 410 | F26: =++D26*E26 -> 410
B27: UD. | C27: Empalme Brida-Enchufe 400 mm. | D27: 5 | E27: 530 | F27: =++D27*E27 -> 2650
B28: UD. | C28: Empalme Brida-Enchufe 450 mm. | D28: 1 | E28: 710 | F28: =++D28*E28 -> 710
B29: UD. | C29: Empalme Brida-Enchufe 500 mm. | D29: 1 | E29: 865 | F29: =++D29*E29 -> 865
B30: UD. | C30: Empalme Brida-Enchufe 600 mm. | D30: 1 | E30: 1175 | F30: =++D30*E30 -> 1175
B31: UD. | C31: Empalme Brida-Enchufe 800 mm. | D31: 1 | E31: 1720 | F31: =++D31*E31 -> 1720
B33: L1.03 | C33: Empalme de fundicion ductil, conexión Brida Liso, accesorios recubrimiento interior y exterior de epoxi, esmalte o similar aquacoat, conjuntos completos, equipados con junta EPDM para brida PFA 16 bar. Brida Orientable. Norma UNE EN-545:2011 | H33: =SUM(F35:F46) -> 8433.6
C34: Concepto | D34: Cantidad | E34: Precio Unitario | F34: TOTAL | H34: Marca/s ofertada/s
B35: UD. | C35: Empalme Brida-Liso 80 mm. | D35: 5 | E35: 37 | F35: =++D35*E35 -> 185
B36: UD. | C36: Empalme Brida-Liso 100 mm. | D36: 10 | E36: 41 | F36: =++D36*E36 -> 410
B37: UD. | C37: Empalme Brida-Liso 150 mm. | D37: 10 | E37: 75 | F37: =++D37*E37 -> 750
B38: UD. | C38: Empalme Brida-Liso 200 mm. | D38: 5 | E38: 100 | F38: =++D38*E38 -> 500
B39: UD. | C39: Empalme Brida-Liso 250 mm. | D39: 1 | E39: 177 | F39: =++D39*E39 -> 177
B40: UD. | C40: Empalme Brida-Liso 300 mm. | D40: 5 | E40: 240 | F40: =++D40*E40 -> 1200
B41: UD. | C41: Empalme Brida-Liso 350 mm. | D41: 1 | E41: 340 | F41: =++D41*E41 -> 340
B42: UD. | C42: Empalme Brida-Liso 400 mm. | D42: 5 | E42: 380 | F42: =++D42*E42 -> 1900
B43: UD. | C43: Empalme Brida-Liso 450 mm. | D43: 1 | E43: =624*0.9 -> 561.6 | F43: =++D43*E43 -> 561.6
...

Sheet LOTE 2
B1: LOTE NÚM. 2 - MATERIAL PARA REPARACIONES, ACOMETIDAS Y BATERÍAS DE CONTADORES
B3: L2.1.- Enlace de laton (o Polipropileno a eleccion de AB segun pedido) rosca macho para:
B4: Concepto | C4: Cantidad | D4: Precio Unitario | E4: TOTAL | G4: Marca/s ofertada/s
B5: PE de 20- 1/2" | C5: 50 | D5: 2.56 | E5: =C5*D5 -> 128
B6: PE de 25- 3/4" | C6: 100 | D6: 3.38 | E6: =C6*D6 -> 338
B7: PE de 32- 1" | C7: 100 | D7: 5.03 | E7: =C7*D7 -> 503
B8: PE de 40- 1-1/4" | C8: 40 | D8: 7.85 | E8: =C8*D8 -> 314
B9: PE de 50- 1-1/2" | C9: 200 | D9: 14.17 | E9: =C9*D9 -> 2834
B10: PE de 63- 2" | C10: 200 | D10: 24.08 | E10: =C10*D10 -> 4816
B11: PE de 75- 2-1/2" | C11: 6 | D11: 38.54 | E11: =C11*D11 -> 231.24
B12: PE de 90-3" | C12: 6 | D12: 55.43 | E12: =C12*D12 -> 332.58
B13: PE de 110-4" | C13: 6 | D13: 98.38 | E13: =C13*D13 -> 590.28 | G13: =SUM(E5:E13) -> 10087.1
B15: L2.2.- Enlace de laton (o Polipropileno a eleccion de AB segun pedido) rosca macho reducido para:
B16: Concepto | C16: Cantidad | D16: Precio Unitario | E16: TOTAL | G16: Marca/s ofertada/s
B17: PE de 25- 1/2" | C17: 60 | D17: 3.99 | E17: =C17*D17 -> 239.4
B18: PE de 32- 3/4" | C18: 60 | D18: 5.62 | E18: =C18*D18 -> 337.2
B19: PE de 40- 1" | C19: 40 | D19: 8.51 | E19: =C19*D19 -> 340.4
B20: PE de 50-1 1/4" | C20: 50 | D20: 15.17 | E20: =C20*D20 -> 758.5 | G20: =SUM(E17:E20) -> 1675.5
B22: L2.3,- Enlace de laton (o Polipropileno a eleccion de AB segun pedido) rosca hembra para:
B23: Concepto | C23: Cantidad | D23: Precio Unitario | E23: TOTAL | G23: Marca/s ofertada/s
B24: PE de 20- 1/2" | C24: 50 | D24: 2.64 | E24: =C24*D24 -> 132
B25: PE de 25- 3/4" | C25: 100 | D25: 3.56 | E25: =C25*D25 -> 356
B26: PE de 32- 1" | C26: 200 | D26: 5.27 | E26: =C26*D26 -> 1054
B27: PE de 40- 1-1/4" | C27: 50 | D27: 8.28 | E27: =C27*D27 -> 414
B28: PE de 50- 1-1/2" | C28: 200 | D28: 15.19 | E28: =C28*D28 -> 3038
B29: PE de 63- 2" | C29: 100 | D29: 24.39 | E29: =C29*D29 -> 2439
B30: PE de 75- 2-1/2" | C30: 6 | D30: 39.79 | E30: =C30*D30 -> 238.74
B31: PE de 90-3" | C31: 6 | D31: 56.84 | E31: =C31*D31 -> 341.04
B32: PE de 110-4" | C32: 6 | D32: 102.19 | E32: =C32*D32 -> 613.14 | G32: =SUM(E24:E32) -> 8625.92
B34: L2.4.- Enlace de laton (o Polipropileno a eleccion de AB segun pedido) rosca hembra reducido para:
B35: Concepto | C35: Cantidad | D35: Precio Unitario | E35: TOTAL | G35: Marca/s ofertada/s
B36: PE de 25- 1/2" | C36: 60 | D36: 3.99 | E36: =C36*D36 -> 239.4
B37: PE de 32- 3/4" | C37: 60 | D37: 5.62 | E37: =C37*D37 -> 337.2
B38: PE de 40- 1" | C38: 40 | D38: 9.34 | E38: =C38*D38 -> 373.6
B39: PE de 50-1 1/4" | C39: 50 | D39: 20.75 | E39: =C39*D39 -> 1037.5 | G39: =SUM(E36:E39) -> 1987.7
B41: L2.5.- Manguito de laton (o Polipropileno a eleccion de AB segun pedido) union para PE de:
B42: Concepto | C42: Cantidad | D42: Precio Unitario | E42: TOTAL | G42: Marca/s ofertada/s
B43: Diámetro nominal 20 mm. | C43: 100 | D43: 4.06 | E43: =C43*D43 -> 406
B44: Diámetro nominal 25 mm. | C44: 200 | D44: 5.61 | E44: =C44*D44 -> 1122
B45: Diámetro nominal 32 mm. | C45: 200 | D45: 7.99 | E45: =C45*D45 -> 1598
...

Sheet LOTE 3
B1: LOTE NÚM. 3 - VALVULERÍA Y PIEZAS ESPECIALES
B3: L3.1.- Válvula cierre elástico, paso recto, roscas hembra, pintada en epoxi,
B4: en fundición dúctil PN-16, con eje de acero inoxidable y cuadradillo tipo europeo
B5: Concepto | C5: Cantidad | D5: Precio Unitario | E5: TOTAL | G5: Marca/s ofertada/s
B6: 3/4" | C6: 20 | D6: 49.29 | E6: =C6*D6 -> 985.8
B7: 1" | C7: 20 | D7: 50.75 | E7: =C7*D7 -> 1015
B8: 1 1/4" | C8: 10 | D8: 60.7 | E8: =C8*D8 -> 607
B9: 1 1/2" | C9: 25 | D9: 65.85 | E9: =C9*D9 -> 1646.25
B10: 2" | C10: 15 | D10: 90.12 | E10: =C10*D10 -> 1351.8 | G10: =SUM(E6:E10) -> 5605.85
B12: L3.2.- Válvula cierre elástico, paso recto, con bridas serie 14 (F4), pintada en epoxi,
B13: en fundición dúctil PN-16, con eje de acero inoxidable y cuadradillo.
B14: Concepto | C14: Cantidad | D14: Precio Unitario | E14: TOTAL | G14: Marca/s ofertada/s
B15: 40 | C15: 10 | D15: 84.33 | E15: =C15*D15 -> 843.3
B16: 50 | C16: 25 | D16: 85.86 | E16: =C16*D16 -> 2146.5
B17: 65 | C17: 20 | D17: 89.67 | E17: =C17*D17 -> 1793.4
B18: 80 | C18: 30 | D18: 91.5 | E18: =C18*D18 -> 2745
B19: 100 | C19: 30 | D19: 108.36 | E19: =C19*D19 -> 3250.8
B20: 150 | C20: 25 | D20: 190.78 | E20: =C20*D20 -> 4769.5
B21: 200 | C21: 25 | D21: 296.1 | E21: =C21*D21 -> 7402.5
B22: 250 | C22: 6 | D22: 639.5 | E22: =C22*D22 -> 3837
B23: 300 | C23: 8 | D23: 877.59 | E23: =C23*D23 -> 7020.72
B24: 350 | C24: 2 | D24: 1649.88 | E24: =C24*D24 -> 3299.76
B25: 400 | C25: 2 | D25: 1854.39 | E25: =C25*D25 -> 3708.78
B26: 450 | C26: 2 | D26: 5641.63 | E26: =C26*D26 -> 11283.26
B27: 500 | C27: 1 | D27: 5927.63 | E27: =C27*D27 -> 5927.63
B28: 600 | C28: 1 | D28: 7322.56 | E28: =C28*D28 -> 7322.56 | G28: =SUM(E15:E28) -> 65350.71
B30: L3.3.- Volante para valvulas de compuerta de acero estampado:
B31: Concepto | C31: Cantidad | D31: Precio Unitario | E31: TOTAL | G31: Marca/s ofertada/s
B32: DN-25-50 registro | C32: 3 | D32: 3.61 | E32: =C32*D32 -> 10.83
B33: DN-40/80 | C33: 3 | D33: 7.66 | E33: =C33*D33 -> 22.98
B34: DN-100/125 | C34: 3 | D34: 13.34 | E34: =C34*D34 -> 40.02
B35: DN-150 | C35: 3 | D35: 27.37 | E35: =C35*D35 -> 82.11
B36: DN-200 | C36: 3 | D36: 22.98 | E36: =C36*D36 -> 68.94
B37: DN-250/300 | C37: 3 | D37: 32.86 | E37: =C37*D37 -> 98.58
B38: DN-350/500 | C38: 3 | D38: 39.11 | E38: =C38*D38 -> 117.33
B39: DN-450/600 | C39: 3 | D39: 90.05 | E39: =C39*D39 -> 270.15 | G39: =SUM(E32:E39) -> 710.94
B41: L3.4.- Conjunto de válvulas para garantizar suministro, cierre elástico, pintada en epoxi,
B42: paso recto, eje acero inoxidable, PN-16
B43: Concepto | C43: Cantidad | D43: Precio Unitario | E43: TOTAL | G43: Marca/s ofertada/s
B44: Combi 3 DN 100 mm. | C44: 2 | D44: 1808.61 | E44: =C44*D44 -> 3617.22
...

Sheet LOTE 4
B1: LOTE NÚM. 4 - TUBERÍA Y ACCESORIOS POLIETILENO PE-40 PE-100
B3: L4.1.- Tubería de polietileno metro de PE40 en rollos de 50-100 metros. De 10 atm
B4: Concepto | C4: Cantidad | D4: Precio Unitario | E4: TOTAL | G4: Marca/s ofertada/s
B5: metro de PE-40 de 20 | C5: 125 | D5: 0.9576 | E5: =C5*D5 -> 119.7
B6: metro de PE-40 de 25 | C6: 300 | D6: 1.4877 | E6: =C6*D6 -> 446.31
B7: metro de PE-40 de 32 | C7: 300 | D7: 2.3788 | E7: =C7*D7 -> 713.64
B8: metro de PE-40 de 40 | C8: 50 | D8: 3.5082 | E8: =C8*D8 -> 175.41
B9: metro de PE-40 de 50 | C9: 200 | D9: 5.776 | E9: =C9*D9 -> 1155.2
B10: metro de PE-40 de 63 | C10: 200 | D10: 9.082 | E10: =C10*D10 -> 1816.4
B11: metro de PE-40 de 75 | C11: 25 | D11: 11.9 | E11: =C11*D11 -> 297.5
B12: metro de PE-40 de 90 | C12: 25 | D12: 17.0625 | E12: =C12*D12 -> 426.5625 | G12: =SUM(E5:E12) -> 5150.7225
B14: L4.2.- Tubería de polietileno metro de PE100, (en rollo, barra de 6 o barra de 12 metros), PN 10
B15: Concepto | C15: Cantidad | D15: Precio Unitario | E15: TOTAL | G15: Marca/s ofertada/s
B16: metro de PE-100 de 32 | C16: 50 | D16: 0.882 | E16: =C16*D16 -> 44.1
B17: metro de PE-100 de 40 | C17: 10 | D17: 1.274 | E17: =C17*D17 -> 12.74
B18: metro de PE-100 de 50 | C18: 10 | D18: 1.96 | E18: =C18*D18 -> 19.6
B19: metro de PE-100 de 63 | C19: 10 | D19: 3.2112 | E19: =C19*D19 -> 32.112
B20: metro de PE-100 de 75 | C20: 10 | D20: 4.536 | E20: =C20*D20 -> 45.36
B21: metro de PE-100 de 90 | C21: 10 | D21: 6.516 | E21: =C21*D21 -> 65.16
B22: metro de PE-100 de110 | C22: 150 | D22: 10.317 | E22: =C22*D22 -> 1547.55
B23: metro de PE-100 de 160 | C23: 10 | D23: 20.448 | E23: =C23*D23 -> 204.48
B24: metro de PE-100 de 200 | C24: 10 | D24: 31.0275 | E24: =C24*D24 -> 310.275
B25: metro de PE-100 de 250 | C25: 1 | D25: 48.265 | E25: =C25*D25 -> 48.265
B26: metro de PE-100 de 315 | C26: 1 | D26: 76.6675 | E26: =C26*D26 -> 76.6675
B27: metro de PE-100 de 400 | C27: 1 | D27: 123.3925 | E27: =C27*D27 -> 123.3925
... B30: metro de PE-100 de 560 | C30: 25 | D30: 279.585 | E30: =C30*D30 -> 6989.625
B31: metro de PE-100 de 630 | C31: 1 | D31: =250*1.3 -> 325 | E31: =C31*D31 -> 325 | G31: =SUM(E16:E31) -> 10220.121
B33: L4.3.- Tubería de polietileno de alta densidad metro de PE100, (barras de 6 o barra de 12 metros), PN 16
B34: Concepto | C34: Cantidad | D34: Precio Unitario | E34: TOTAL | G34: Marca/s ofertada/s
B35: metro de PE-100 de 63 | C35: 2 | D35: 4.5675 | E35: =C35*D35 -> 9.135
B36: metro de PE-100 de 75 | C36: 2 | D36: 6.3875 | E36: =C36*D36 -> 12.775
B37: metro de PE-100 de 90 | C37: 2 | D37: 9.2575 | E37: =C37*D37 -> 18.515
B38: metro de PE-100 de 110 | C38: 2 | D38: 13.7375 | E38: =C38*D38 -> 27.475
B39: metro de PE-100 de 160 | C39: 2 | D39: 29.295 | E39: =C39*D39 -> 58.59
B40: metro de PE-100 de 200 | C40: 2 | D40: 45.675 | E40: =C40*D40 -> 91.35
B41: metro de PE-100 de 250 | C41: 2 | D41: 71.1025 | E41: =C41*D41 -> 142.205
B42: metro de PE-100 de 315 | C42: 2 | D42: 112.805 | E42: =C42*D42 -> 225.61
B43: metro de PE-100 de 400 | C43: 2 | D43: 183.4 | E43: =C43*D43 -> 366.8
B44: metro de PE-100 de 450 | C44: 2 | D44: =175*1.5 -> 262.5 | E44: =C44*D44 -> 525
B45: metro de PE-100 de 500 | C45: 2 | D45: 301 | E45: =C45*D45 -> 602
...

Sheet LOTE 5
B1: LOTE NÚM. 5 - TUBERÍA DE SANEAMIENTO Y ACCESORIOS DE PVC NO PLASTIFICADO, NO ESTRUCTURADO COLOR TEJA CON JUNTA ELÁSTICA
B3: L5.1.- Tubería PVC no plastificado liso no estructurado Saneamiento UNE 1452 PN-6 SN-4
B4: Concepto | C4: Cantidad | D4: Precio Unitario | E4: TOTAL | G4: Marca/s ofertada/s
B5: metro de Ø 110 | C5: 400 | D5: 6.993 | E5: =C5*D5 -> 2797.2
B6: metro de Ø 125 | C6: 200 | D6: 9.1575 | E6: =C6*D6 -> 1831.5
B7: metro de Ø 160 | C7: 300 | D7: 14.504 | E7: =C7*D7 -> 4351.2
B8: metro de Ø 200 | C8: 1200 | D8: 22.762 | E8: =C8*D8 -> 27314.4
B9: metro de Ø 250 | C9: 150 | D9: 34.146 | E9: =C9*D9 -> 5121.9
B10: metro de Ø 315 | C10: 2000 | D10: 55.537 | E10: =C10*D10 -> 111074
B11: metro de Ø 400 | C11: 400 | D11: 90.212 | E11: =C11*D11 -> 36084.8
B12: metro de Ø 500 | C12: 200 | D12: 139.5085 | E12: =C12*D12 -> 27901.7
B13: metro de Ø 630 | C13: 200 | D13: 217.224 | E13: =C13*D13 -> 43444.8
B14: metro de Ø 710 | C14: 6 | D14: 328.779 | E14: =C14*D14 -> 1972.674
B15: metro de Ø 800 | C15: 6 | D15: 376.8435 | E15: =C15*D15 -> 2261.061 | G15: =SUM(E5:E15) -> 264155.23
B17: L5.2.- Manguitos hembra-hembra con junta elástica
B18: Concepto | C18: Cantidad | D18: Precio Unitario | E18: TOTAL | G18: Marca/s ofertada/s
B19: Manguito pvc teja Ø 110 | C19: 25 | D19: 5.6 | E19: =C19*D19 -> 140
B20: Manguito pvc teja Ø 125 | C20: 15 | D20: 7.2 | E20: =C20*D20 -> 108
B21: Manguito pvc teja Ø 160 | C21: 50 | D21: 12.42 | E21: =C21*D21 -> 621
B22: Manguito pvc teja Ø 200 | C22: 75 | D22: 28.76 | E22: =C22*D22 -> 2157
B23: Manguito pvc teja Ø 250 | C23: 1 | D23: 45.69 | E23: =C23*D23 -> 45.69
B24: Manguito pvc teja Ø 315 | C24: 10 | D24: 105 | E24: =C24*D24 -> 1050
B25: Manguito pvc teja Ø 400 | C25: 2 | D25: 162.55775 | E25: =C25*D25 -> 325.1155
B26: Manguito pvc teja Ø 500 | C26: 2 | D26: 278.40706 | E26: =C26*D26 -> 556.81412 | G26: =SUM(E19:E26) -> 5003.6196
B28: L5.3.- Codos a 87º macho-hembra con junta elástica
B29: Concepto | C29: Cantidad | D29: Precio Unitario | E29: TOTAL | G29: Marca/s ofertada/s
B30: Codo pvc teja Ø 110 87ª | C30: 60 | D30: 8.56 | E30: =C30*D30 -> 513.6
B31: Codo pvc teja Ø 125 87ª | C31: 40 | D31: 9.63 | E31: =C31*D31 -> 385.2
B32: Codo pvc teja Ø 160 87ª | C32: 50 | D32: 15.69 | E32: =C32*D32 -> 784.5
B33: Codo pvc teja Ø 200 87ª | C33: 150 | D33: 25 | E33: =C33*D33 -> 3750
B34: Codo pvc teja Ø 250 87ª | C34: 1 | D34: 71.25 | E34: =C34*D34 -> 71.25
B35: Codo pvc teja Ø 315 87ª | C35: 1 | D35: 135 | E35: =C35*D35 -> 135
B36: Codo pvc teja Ø 400 87ª | C36: 1 | D36: 375 | E36: =C36*D36 -> 375
B37: Codo pvc teja Ø 500 87ª | C37: 1 | D37: 809.94375 | E37: =C37*D37 -> 809.94375 | G37: =SUM(E30:E37) -> 6824.4938
B39: L5.4.- Codos a 45º macho-hembra con junta elástica
B40: Concepto | C40: Cantidad | D40: Precio Unitario | E40: TOTAL | G40: Marca/s ofertada/s
B41: Codo pvc teja Ø 110 45º | C41: 50 | D41: 5.86 | E41: =C41*D41 -> 293
B42: Codo pvc teja Ø 125 45º | C42: 25 | D42: 7.16 | E42: =C42*D42 -> 179
B43: Codo pvc teja Ø 160 45º | C43: 75 | D43: 11.52 | E43: =C43*D43 -> 864
B44: Codo pvc teja Ø 200 45º | C44: 125 | D44: 21.36 | E44: =C44*D44 -> 2670
...

Sheet LOTE 6
B1: LOTE NÚM. 6 - TUBERÍA Y ACCESORIOS DE PRFV
B3: L6.1.- Tubería PRFV SANEAMIENTO
B4: Concepto | C4: Cantidad | D4: Precio Unitario | E4: TOTAL | G4: Marca/s ofertada/s
B5: m.l. Tubería PRFV DN-800 PN-1 SN-5000 | C5: 10 | D5: 229.152 | E5: =C5*D5 -> 2291.52
B6: m.l. Tubería PRFV DN-900 PN-1 SN-5000 | C6: 10 | D6: 244.972 | E6: =C6*D6 -> 2449.72
B7: m.l. Tubería PRFV DN-1000 PN-1 SN-5000 | C7: 10 | D7: 326.208 | E7: =C7*D7 -> 3262.08
B8: m.l. Tubería PRFV DN-1100 PN-1 SN-5000 | C8: 10 | D8: 327.866 | E8: =C8*D8 -> 3278.66
B9: m.l. Tubería PRFV DN-1200 PN-1 SN-5000 | C9: 10 | D9: 451.6176 | E9: =C9*D9 -> 4516.176
B10: m.l. Tubería PRFV DN-1300 PN-1 SN-5000 | C10: 10 | D10: 453.95 | E10: =C10*D10 -> 4539.5
B11: m.l. Tubería PRFV DN-1400 PN-1 SN-5000 | C11: 10 | D11: 582.016 | E11: =C11*D11 -> 5820.16
B12: m.l. Tubería PRFV DN-1500 PN-1 SN-5000 | C12: 10 | D12: 614.4296 | E12: =C12*D12 -> 6144.296
B13: m.l. Tubería PRFV DN-1600 PN-1 SN-5000 | C13: 10 | D13: 753.936 | E13: =C13*D13 -> 7539.36
B14: m.l. Tubería PRFV DN-1700 PN-1 SN-5000 | C14: 10 | D14: 725.886 | E14: =C14*D14 -> 7258.86
B15: m.l. Tubería PRFV DN-1800 PN-1 SN-5000 | C15: 10 | D15: 905.824 | E15: =C15*D15 -> 9058.24
B16: m.l. Tubería PRFV DN-1900 PN-1 SN-5000 | C16: 10 | D16: 863.688 | E16: =C16*D16 -> 8636.88
... B20: m.l. Tubería PRFV DN-2300 PN-1 SN-5000 | C20: 10 | D20: 1187.228 | E20: =C20*D20 -> 11872.28
B21: m.l. Tubería PRFV DN-2400 PN-1 SN-5000 | C21: 10 | D21: 1529.2368 | E21: =C21*D21 -> 15292.368 | G21: =SUM(E5:E21) -> 125546.21
B23: L6.2.- POZOS DE REGISTRO DE PRFV
B24: Concepto | C24: Cantidad | D24: Precio Unitario | E24: TOTAL | G24: Marca/s ofertada/s
B25: Ud. Pozo de registro PRFV DN 600 x 1000. h desde la clave: 50 cm . Con pates | C25: 1 | D25: 2888.172 | E25: =C25*D25 -> 2888.172
B26: Ud. Pozo de registro PRFV DN 700 x 1000. h desde la clave: 50 cm . Con pates | C26: 1 | D26: 2933.7 | E26: =C26*D26 -> 2933.7
B27: Ud. Pozo de registro PRFV DN 800 x 1000. h desde la clave: 50 cm . Con pates | C27: 1 | D27: 3440.608 | E27: =C27*D27 -> 3440.608
B28: Ud. Pozo de registro PRFV DN 1000 x 1000. h desde la clave: 50 cm . Con pates | C28: 1 | D28: 3848.796 | E28: =C28*D28 -> 3848.796
B29: Ud. Pozo de registro PRFV DN 1100 x 1000. h desde la clave: 50 cm . Con pates | C29: 1 | D29: 2942.086 | E29: =C29*D29 -> 2942.086
B30: Ud. Pozo de registro PRFV DN 1200 x 1000. h desde la clave: 50 cm . Con pates | C30: 1 | D30: 3669.8256 | E30: =C30*D30 -> 3669.8256
B31: Ud. Pozo de registro PRFV DN 1400 x 1000. h desde la clave: 50 cm . Con pates | C31: 1 | D31: 4231.6512 | E31: =C31*D31 -> 4231.6512
B32: Ud. Pozo de registro PRFV DN 1500 x 1000. h desde la clave: 50 cm . Con pates | C32: 1 | D32: 3736.754 | E32: =C32*D32 -> 3736.754
B33: Ud. Pozo de registro PRFV DN 1600 x 1000. h desde la clave: 50 cm . Con pates | C33: 1 | D33: 4703.7648 | E33: =C33*D33 -> 4703.7648
B34: Ud. Pozo de registro PRFV DN 1800 x 1000. h desde la clave: 50 cm . Con pates | C34: 1 | D34: 5545.1928 | E34: =C34*D34 -> 5545.1928
B35: Ud. Pozo de registro PRFV DN 2000 x 1000. h desde la clave: 50 cm . Con pates | C35: 1 | D35: 6135.612 | E35: =C35*D35 -> 6135.612
B36: Ud. Pozo de registro PRFV DN 2200 x 1000. h desde la clave: 50 cm . Con pates | C36: 1 | D36: 6762.7056 | E36: =C36*D36 -> 6762.7056 | G36: =SUM(E25:E36) -> 50838.868
B38: L6.3.- CODOS DE PRFV
B39: Concepto | C39: Cantidad | D39: Precio Unitario | E39: TOTAL | G39: Marca/s ofertada/s
B40: Ud Codo PRFV DN 600 PN-1 SN-5000 hasta 45º | C40: 1 | D40: 906.696 | E40: =C40*D40 -> 906.696
B41: Ud Codo PRFV DN 700 PN-1 SN-5000 hasta 45º | C41: 1 | D41: 1045.786 | E41: =C41*D41 -> 1045.786
B42: Ud Codo PRFV DN 800 PN-1 SN-5000 hasta 45º | C42: 1 | D42: 1245.244 | E42: =C42*D42 -> 1245.244
B43: Ud Codo PRFV DN 1000 PN-1 SN-5000 hasta 45º | C43: 1 | D43: 1867.088 | E43: =C43*D43 -> 1867.088
B44: Ud Codo PRFV DN 1100 PN-1 SN-5000 hasta 45º | C44: 1 | D44: 1814.918 | E44: =C44*D44 -> 1814.918
B45: Ud Codo PRFV DN 1200 PN-1 SN-5000 hasta 45º | C45: 1 | D45: 2502.144 | E45: =C45*D45 -> 2502.144
B46: Ud Codo PRFV DN 1400 PN-1 SN-5000 hasta 45º | C46: 1 | D46: 3214.112 | E46: =C46*D46 -> 3214.112
...

Sheet LOTE 7
B1: LOTE NÚM. 7 - MARCOS Y TAPAS DE FUNDICION Y ACERO GALVANIZADO
B3: MARCO Y TAPA CIRCULAR DE FUNDICION DUCTIL 600 Ø CLASE D400
B4: CONCEPTO | C4: CANTIDAD | D4: Precio Ud. | E4: TOTAL | G4: Marca/s ofertada/s
B5: Marco y tapa de fundición de grafito esferoidal según norma ISO1083 y EN 1563 conforme a La clase D400 de la norma EN 124. Certificación del producto AENOR. Tapa articulada redonda provista de 5 guías de auto-centrado. Provista de soporte elástico de polietileno clipado sobre marco, anti-ruido y anti-desplazamiento. Sistema Antirrobo, bloqueo de seguridad a 90º.Apertura de tapa mediante tirador incorporado en la tapa. (peso 58 kg) Anagrama AGUAS DE BURGOS con inscripciones Aguas, Saneamiento y Pluviales. | C5: 100 | D5: 153 | E5: =+C5*D5 -> 15300
B7: MARCO Y TAPA CIRCULAR DE FUNDICION DUCTIL 600 Ø CLASE D400 TRAFICO INTENSO
B8: CONCEPTO | C8: CANTIDAD | D8: Precio Ud. | E8: TOTAL | G8: Marca/s ofertada/s
B9: Marco y tapa de fundición de grafito esferoidal según norma ISO1083 y EN 1563 conforme a la clase D400 de la norma EN 124. Certificación del producto AENOR Tapa articulada Redonda con bloqueo antirretorno a 90º, equipada con junta de policloropreno anti-ruido y anti-desplazamiento.Equipada con orificios para anclar al suelo. (peso 87 kg) Anagrama AGUAS DE BURGOS con inscripciones Aguas, Saneamiento y Pluviales. | C9: 10 | D9: 285 | E9: =+C9*D9 -> 2850
B11: MARCO Y TAPA CIRCULAR DE FUNDICION DUCTIL 700 Ø CLASE D400
B12: CONCEPTO | C12: CANTIDAD | D12: Precio Ud. | E12: TOTAL | G12: Marca/s ofertada/s
B13: Marco y tapa de fundición de grafito esferoidal según norma ISO1083 y EN 1563 conforme a la clase D400 de la norma EN 124. Certificación del producto AENOR. Tapa articulada redonda provista de 5 guías de auto-centrado. Provista de soporte elástico de polietileno clipado sobre marco, anti-ruido y anti-desplazamiento. Sistema Antirrobo, bloqueo de seguridad a 90º Apertura de tapa mediante tirador incorporado en tapa. (peso 104 kg) | C13: 5 | D13: 190 | E13: =+C13*D13 -> 950
B15: MARCO Y TAPA CIRCULAR DE FUNDICION DUCTIL 800 Ø CLASE D400
B16: CONCEPTO | C16: CANTIDAD | D16: Precio Ud. | E16: TOTAL | G16: Marca/s ofertada/s
B17: Marco y tapa de fundición de grafito esferoidal según norma ISO1083 y EN 1563 conforme a la clase D400 de la norma EN 124. Certificación del producto AENOR. Tapa articulada redonda provista de 5 guías de auto-centrado. Provista de soporte elástico de polietileno clipado sobre marco, anti-ruido y anti-desplazamiento. Sistema Antirrobo, bloqueo de seguridad a 90º Tapa con 2 orificios pasante s para manipulación. Apertura de tapa mediante tirador incorporado en tapa. (peso 110 kg) | C17: 5 | D17: 470 | E17: =+C17*D17 -> 2350
B19: MARCO DE FUNDICION DÚCTIL PARA DISPOSITIVOS DE Ø600
B20: CONCEPTO | C20: CANTIDAD | D20: Precio Ud. | E20: TOTAL | G20: Marca/s ofertada/s
B21: Marco aparente de fundición GE 500-7 según ISO 1083/EN 1563, para pozos con apertura libre 600 Ø Colocación en los dispositivos redondos de diámetro 600, para la facilitación de los remates del pavimento. , | C21: 30 | D21: 112 | E21: =+C21*D21 -> 3360
B23: REJILLA TRAGADERO DE FUNDICION DUCTIL DE 610X620X205 CLASE C250
B24: CONCEPTO | C24: CANTIDAD | D24: Precio Ud. | E24: TOTAL | G24: Marca/s ofertada/s
B25: Rejilla-tragadero de fundición de grafito esferoidal según ISO1083 y EN 1563 conforme a la clase C250 de la norma EN 124. Certificación del producto NF/AENOR Conjunto tragadero con tapa y rejilla articulada a 100º T. 500 Extraíble en posición vertical y bloqueo de seguridad a 90º. Auto-bloqueo de la rejilla y del buzón mediante dedo elástico. Barrote de selección en el tragadero para evitar que entren objetos voluminosos. Barrotes con sentido tri-dimensional para facilitar la absorción del agua. Para instalacion en bordillos hormigon , | C25: 25 | D25: 280 | E25: =+C25*D25 -> 7000
B27: REJILLA TRAGADERO DE FUNDICION DUCTIL 800X680X160 C-250
B28: CONCEPTO | C28: CANTIDAD | D28: Precio Ud. | E28: TOTAL | G28: Marca/s ofertada/s
B29: Rejilla-tragadero de fundición de grafito esferoidal según ISO1083 y EN 1563 conforme a la clase C250 de la norma EN 124. Certificación del producto NF/AENOR Conjunto tragadero con tapa y rejilla articulada a 100º T. PLUS Tapa y rejilla con bloqueo de seguridad y extraíbles a 90º. Auto-bloqueo de la rejilla y de la tapa mediante dedo elástico. Barrote de lección en el tragadero para evitar que entren objetos voluminosos. Barrotes con sentido tri-direccional para facilitar la absorción del agua. Para instalacion en bordillos de granito. . | C29: 50 | D29: 598 | E29: =+C29*D29 -> 29900
B31: SUMIDERO FUNDICION 750X290X450 CLASE D400
B32: CONCEPTO | C32: CANTIDAD | D32: Precio Ud. | E32: TOTAL | G32: Marca/s ofertada/s
B33: Sumidero de fundición de grafito esferoidal según ISO1083 y EN 1563 conforme a la clase D400 de la norma EN 124. Certificación del producto AENOR Rejilla triangular articulada antirrobo AV Tapa extraíble anti-olor para su mantenimiento y limpieza. Apertura libre 730x220 con una superficie tragante de 680 cm2 Collarín de salida longitudinal para facilitar la instalación. Salida horizontal de Ø 200 , | C33: 10 | D33: 441 | E33: =+C33*D33 -> 4410
B35: REJILLA FUNDICION DUCTIL DE 500X300 CLASE C250
B36: CONCEPTO | C36: CANTIDAD | D36: Precio Ud. | E36: TOTAL | G36: Marca/s ofertada/s
B37: Modelo REJILLA TIPO BURGOS rejilla fundición dúctil, carga de rotura superior a 250 kN, rejilla abatible y sistema antivandálico con inscripción AYTO. BURGOS , | C37: 150 | D37: 70 | E37: =+C37*D37 -> 10500
B39: REJILLA FUNDICION DUCTIL DE 500x275 CLASE C250 (570x370x80 C-250)
B40: CONCEPTO | C40: CANTIDAD | D40: Precio Ud. | E40: TOTAL | G40: Marca/s ofertada/s
B41: Rejilla articulada de fundición GE 500-7 según ISO 1083/EN 1563, en Clase C250 según norma EN-124:2015, con certificación AENOR, apertura libre 429x220 mm, dimensión exterior 568x372 mm, altura 80mm. Peso del conjunto 36,9 kg. Rejilla de 499x274 mm, articulada reversible anti-robo con barrotes a 45º, distancia entre barrotes inferior a 25 mm, superficie antideslizante y apertura a 110º, extraíble una vez eliminado el sellado al nivel de la articulación. Superficie tragante 346 cm². Revestimiento de pintura hidrosoluble negra, no tóxica, no inflamable y no contaminante. , | C41: 50 | D41: 136 | E41: =+C41*D41 -> 6800
B43: REJILLA FUNDICION DUCTIL DE 586x357 CLASE C250 (725x400x80 C-250)
B44: CONCEPTO | C44: CANTIDAD | D44: Precio Ud. | E44: TOTAL | G44: Marca/s ofertada/s
B45: Rejilla articulada cautiva de fundición GE 500-7 según ISO 1083/EN 1563, en Clase C250 kN según norma EN-124:2015, con certificación AENOR, apertura libre 550x300 mm, dimensión exterior 725x400 mm, altura 80mm. Peso del conjunto 39,5 kg . Rejilla articulada anti-robo de 586x357 mm, extraíble una vez eliminado el sellado al nivel de la articulación, barrotes rectos, distancia entre barrotes inferior a 30 mm, superficie antideslizante y apertura a 100o. Superficie tragante 1100 cm². Marco monobloque moldeado diseñado para ser instalado pegado a acera. Revestimiento de pintura hidrosoluble negra, no tóxica, no inflamable y no contaminante , | C45: 50 | D45: 165 | E45: =+C45*D45 -> 8250
B47: TAPA Y MARCO 400X400 CLASE C250
B48: CONCEPTO | C48: CANTIDAD | D48: Precio Ud. | E48: TOTAL | G48: Marca/s ofertada/s
B49: Marco y tapa cuadrada defundición GE 500-7 según ISO 1083/EN 1563, en Clase C250 según norma EN-124:2015, con certificación AENOR, apertura libre 300x300 mm, dimensión exterior 400X400 mm, altura 50mm. Tapa de 346x346 mm con relieve antideslizante, equipada con un orificio de llave para manipularla con la ayuda de un pico, gancho. Marco cuadrado monobloque moldeado, provisto de 4 patines de goma clipados permitiendo estabilidad y ausencia de ruido, con garganta hidráulica >6mm, resistente a las subidas de olores. La geometría exterior del marco permite todos los acabados: baldosas, adoquines etc. Posibilidad de marcado en relieve de servicios específicos. Revestimiento de pintura hidrosoluble negra, no tóxica, no inflamable y no contaminante. Anagrama AGUAS DE BURGOS con inscripción Aguas en relieve y antideslizante , | C49: 200 | D49: 62 | E49: =+C49*D49 -> 12400
B51: TAPA Y MARCO 500X500 CLASE C250
B52: CONCEPTO | C52: CANTIDAD | D52: Precio Ud. | E52: TOTAL | G52: Marca/s ofertada/s
B53: Marco y tapa cuadrada de fundición GE 500-7 según ISO 1083/EN 1563, en Clase C250 según norma EN-124:2015, con certificación AENOR, apertura libre 400x400 mm, dimensión exterior 500X500 mm, altura 50mm. Peso del conjunto 27 kg). Tapa de 446x446 mm y 70 mm de altura, con relieve antideslizante, equipada con un orificio de llave para manipularla con la ayuda de un pico, gancho. Marco cuadrado monobloque moldeado, provisto de 4 patines de goma clipados permitiendo estabilidad y ausencia de ruido, con garganta hidráulica >6mm resistente a las subidas de olores. La geometría exterior del marco permite todos los acabados: baldosas, adoquines etc. Posibilidad de marcado en relieve de servicios específicos. Revestimiento de pintura hidrosoluble negra, no tóxica, no inflamable y no contaminante.Anagrama AGUAS DE BURGOS con inscripción Aguas en relieve y antideslizante. . | C53: 20 | D53: 91 | E53: =+C53*D53 -> 1820
...

Sheet LOTE 8
B1: LOTE NÚM. 8 - MATERIALES DE CONSTRUCCION
B3: SACO CEMENTO RAPIDO.
B4: CONCEPTO | C4: Cantidad | D4: Precio Ud. | E4: TOTAL | G4: Marca/s ofertada/s
B5: Ligante hidráulico natural sin aditivos de fraguado rápido y regulable de alta resistencia inicial e impermeable. Formato 25 kg. . | C5: 200 | D5: 16.65 | E5: =+C5*D5 -> 3330
B7: SACO CEMENTO.
B8: CONCEPTO | C8: Cantidad | D8: Precio Ud. | E8: TOTAL | G8: Marca/s ofertada/s
B9: Cemento puzolánico tipo CEM IV con adición de ceniza volante de resistencia media 32,5 con resistencia inicial normal.Formato 35 kg. | C9: 300 | D9: 5.49 | E9: =+C9*D9 -> 1647
B11: MORTERO REPARACION CON PASIVANTE.
B12: CONCEPTO | C12: Cantidad | D12: Precio Ud. | E12: TOTAL | G12: Marca/s ofertada/s
B13: Mortero mineral a base de ligante con reacción cristalina para la pasivación , reparación, alisado y protección monolítica de estructuras de hormigón degradado. Tixotrópico. Formato 25 kg. . | C13: 15 | D13: 32.5 | E13: =+C13*D13 -> 487.5
B15: MORTERO SECO.
B16: CONCEPTO | C16: Cantidad | D16: Precio Ud. | E16: TOTAL | G16: Marca/s ofertada/s
B17: Mortero para albañilería a base de cemento, cal hidratada, áridos y aditivos químicos para una gran plasticidad, adherencia, trabajabilidad y excelentes resistencias mecánicas.Formato 25 kg. . | C17: 60 | D17: 2.98 | E17: =+C17*D17 -> 178.8
B19: MORTERO SECO RÁPIDO.
B20: CONCEPTO | C20: Cantidad | D20: Precio Ud. | E20: TOTAL | G20: Marca/s ofertada/s
B21: Mortero seco especial a base de conglomerantes hidráulicos, áridos de gran pureza, granulometría seleccionada y aditivos químicos.Buena plasticidad, adherencia, altas resistencias mecánicas y fraguado rápido. Formato 25 kg. , | C21: 2 | D21: 6.12 | E21: =+C21*D21 -> 12.24
B23: MORTERO DE MUY ALTAS PRESTACIONES PARA RELLENO DE HASTA 250 mm.
B24: CONCEPTO | C24: Cantidad | D24: Precio Ud. | E24: TOTAL | G24: Marca/s ofertada/s
B25: Mortero de expansión controlada, autonivelante, sin retracción y de muy altas resistencias para relleno y anclajes.Impermeable al agua, aceites, grasas. Espesores hasta 25 cm. Formato 25 kg. . | C25: 2 | D25: 13.75 | E25: =+C25*D25 -> 27.5
B27: MORTERO IMPERMEABLE FLEXIBLE.
B28: CONCEPTO | C28: Cantidad | D28: Precio Ud. | E28: TOTAL | G28: Marca/s ofertada/s
B29: Membrana cementosa impermeable flexible monocomponente.Excelente adherencia, transpirable, alta resistencia a la difusión del dióxido de carbono y apto para contacto con agua potable.Formato 15 kg. | C29: 20 | D29: 38.5 | E29: =+C29*D29 -> 770
B31: MORTERO DE APOYO Y FIJACIÓN DE SECADO RÁPIDO.
B32: CONCEPTO | C32: Cantidad | D32: Precio Ud. | E32: TOTAL | G32: Marca/s ofertada/s
B33: Mortero cementoso, de un componente, predosificado para trabajos de fijación y apoyo para trabajos de mantenimiento de calles, buena adherencia en hormigón y asfalto. Formato 25 kg. . | C33: 15 | D33: 36.1 | E33: =+C33*D33 -> 541.5
B35: HORMIGON SECO.
B36: CONCEPTO | C36: Cantidad | D36: Precio Ud. | E36: TOTAL | G36: Marca/s ofertada/s
B37: Hormigón seco 25 N/mm2 a base de cemento, áridos y aditivos químicos.Granulometría máxima del árido 8 mm. | C37: 100 | D37: 3.6 | E37: =+C37*D37 -> 360
B39: ASFALTO EN FRIO.
B40: CONCEPTO | C40: Cantidad | D40: Precio Ud. | E40: TOTAL | G40: Marca/s ofertada/s
B41: Aglomerado asfáltico de aplicación en frio a base de emulsiones bituminosas y áridos especiales.Estable, gran elasticidad y buena adherencia.Embase 25 kg, . | C41: 50 | D41: 14.1 | E41: =+C41*D41 -> 705
B43: LADRILLO MACIZO 10.
B44: CONCEPTO | C44: Cantidad | D44: Precio Ud. | E44: TOTAL | G44: Marca/s ofertada/s
B45: Ladrillo de arcilla cocida para la fábrica de albañilería protegida. Medidas 238x98x112. . | C45: 9000 | D45: 0.23 | E45: =+C45*D45 -> 2070
D47: TOTAL LOTE 8 | E47: =SUM(E5:E45) -> 10129.54

Sheet LOTE 9
C1: LOTE NÚM. 9 - HORMIGON Y MORTERO FABRICADO EN CENTRAL.
B3: L9.01 | C3: Hormigon HM-20
C4: CONCEPTO | D4: Cantidad | E4: Precio Ud. | F4: TOTAL | H4: Marca/s ofertada/s
B5: M3 | C5: Hormigon HM-20, cualquier consistencia, cualquier tamaño maximo de arido y para cualquier ambiente. Conforme a RD 470/2021 y la instrucción 163/2019. Precio en boca de carga, En pedidos de cualquier cantidad de m3 | D5: 600 | E5: 77 | F5: =+D5*E5 -> 46200
B7: L9.02 | C7: Hormigon HM-25
C8: CONCEPTO | D8: Cantidad | E8: Precio Ud. | F8: TOTAL | H8: Marca/s ofertada/s
B9: M3 | C9: Hormigon HM-25, cualquier consistencia, cualquier tamaño maximo de arido y para cualquier ambiente. Conforme a RD 470/2021 y la instrucción 163/2019. Precio en boca de carga. En pedidos de cualquier cantidad de m3. | D9: 100 | E9: 80 | F9: =+D9*E9 -> 8000
B11: L9.03 | C11: Hormigon HA-25
C12: CONCEPTO | D12: Cantidad | E12: Precio Ud. | F12: TOTAL | H12: Marca/s ofertada/s
B13: M3 | C13: Hormigon HM-25, cualquier consistencia, cualquier tamaño maximo de arido y para cualquier ambiente. Conforme a RD 470/2021 y la instrucción 163/2019. Precio en boca de carga. En pedidos de cualquier cantidad de m3. | D13: 100 | E13: 80 | F13: =+D13*E13 -> 8000
B15: L9.04 | C15: Mortero M-5
C16: CONCEPTO | D16: Cantidad | E16: Precio Ud. | F16: TOTAL | H16: Marca/s ofertada/s
B17: M3 | C17: Mortero para albañilería a base de cemento, cal hidratada, áridos y aditivos químicos con resistencia caracteristica de 5 N/mm2 fabricado en central. Precio en boca de carga. En pedidos de cualquier cantidad de m3 , | D17: 20 | E17: 76 | F17: =+D17*E17 -> 1520
B19: L9.05 | C19: Transporte de hormigon a obra, carga y descarga.
C20: CONCEPTO | D20: Cantidad | E20: Precio Ud. | F20: TOTAL | H20: Marca/s ofertada/s
B21: Ud | C21: Viaje desde la planta hasta la ubicación a cualquiera de las actuaciones de Aguas de Burgos, incluyendo carga en central, viaje a las obras de Aguas de Burgos y descarga en cada obra del hormigon preciso. Viaje con cualquier volumen de Hormigon solicitado. (volumen medio habitual 2 m3/viaje) . | D21: 350 | E21: 160 | F21: =+D21*E21 -> 56000
B23: L9.06 | C23: Aditivo retardante para cualquier tipo de hormigon
C24: CONCEPTO | D24: Cantidad | E24: Precio Ud. | F24: TOTAL | H24: Marca/s ofertada/s
B25: m3 | C25: Precio a adicionar por cada m3 de hormigon solicitado con aditivo retardante. | D25: 10 | E25: 10 | F25: =+D25*E25 -> 100
B27: L9.07 | C27: Aditivo Anticongelante para cualquier tipo de hormigon
C28: CONCEPTO | D28: Cantidad | E28: Precio Ud. | F28: TOTAL | H28: Marca/s ofertada/s
B29: M3 | C29: Precio a adicionar a cada m3 de hormigon solic, con aditivo anticongelante | D29: 3 | E29: 10 | F29: =+D29*E29 -> 30
B31: L9.08 | C31: Adicion de Fibras en polipropileno 12 mm, para cualquier tipo de hormigon
C32: CONCEPTO | D32: Cantidad | E32: Precio Ud. | F32: TOTAL | H32: Marca/s ofertada/s
B33: M3 | C33: Precio a adicionar a cada m3 de hormigon solicitado para obtener hormigon reforzado con fibras conforme al RD 470/2021 Codigo estructural y con el contenido en fibras indicado por la norma UNE-EN 14889. Fibra polipropileno no estructural 12 mm, . | D33: 5 | E33: 5.5 | F33: =+D33*E33 -> 27.5
B35: L9.09 | C35: Adicion de Fibras en polipropileno 48 o 23 mm, para cualquier tipo de hormigon
C36: CONCEPTO | D36: Cantidad | E36: Precio Ud. | F36: TOTAL | H36: Marca/s ofertada/s
B37: M3 | C37: Precio a adicionar a cada m3 de hormigon solicitado para obtener hormigon reforzado con fibras conforme al RD 470/2021 Codigo estructural y con el contenido en fibras indicado por la norma UNE-EN 14889. Fibra polipropileno estructural en 48 o 23 mm. . | D37: 75 | E37: 9.5 | F37: =+D37*E37 -> 712.5
B39: L9.10 | C39: Bombeo de hormigon
C40: CONCEPTO | D40: Cantidad | E40: Precio Ud. | F40: TOTAL | H40: Marca/s ofertada/s
B41: Ud | C41: Servicio para bombeo de hormigon de apartados anteriores en obras de Aguas de Burgos, servicio completo incluyendo salida, viaje a obra, estancia en obra de hasta 4 horas en proceso de bombeo del hormigon | D41: 4 | E41: 400 | F41: =+D41*E41 -> 1600
E43: TOTAL LOTE 9 | F43: =SUM(F5:F42) -> 122190

Sheet Resumen
A2: RESUMEN DE LOS LOTES
A4: =+'LOTE 1'!C1 -> LOTE NÚM. 1 - TUBERÍA DE FUNDICIÓN DÚCTIL, PVC-O Y PIEZAS ESPECIALES | B4: =+'LOTE 1'!F458 -> 719523.06
A5: =+'LOTE 2'!B1 -> LOTE NÚM. 2 - MATERIAL PARA REPARACIONES, ACOMETIDAS Y BATERÍAS DE CONTADORES | B5: =+'LOTE 2'!E513 -> 294042
A6: =+'LOTE 3'!B1 -> LOTE NÚM. 3 - VALVULERÍA Y PIEZAS ESPECIALES | B6: =+'LOTE 3'!E356 -> 368906.58
A7: =+'LOTE 4'!B1 -> LOTE NÚM. 4 - TUBERÍA Y ACCESORIOS POLIETILENO PE-40 PE-100 | B7: =+'LOTE 4'!E308 -> 63713.641
A8: =+'LOTE 5'!B1 -> LOTE NÚM. 5 - TUBERÍA DE SANEAMIENTO Y ACCESORIOS DE PVC NO PLASTIFICADO, NO ESTRUCTURADO COLOR TEJA CON JUNTA ELÁSTICA | B8: =+'LOTE 5'!E179 -> 358709.84
A9: =+'LOTE 6'!B1 -> LOTE NÚM. 6 - TUBERÍA Y ACCESORIOS DE PRFV | B9: =+'LOTE 6'!E85 -> 284341.51
A10: =+'LOTE 7'!B1 -> LOTE NÚM. 7 - MARCOS Y TAPAS DE FUNDICION Y ACERO GALVANIZADO | B10: =++'LOTE 7'!E111 -> 188754
A11: =+'LOTE 8'!B1 -> LOTE NÚM. 8 - MATERIALES DE CONSTRUCCION | B11: =+'LOTE 8'!E47 -> 10129.54
A12: =++'LOTE 9'!C1 -> LOTE NÚM. 9 - HORMIGON Y MORTERO FABRICADO EN CENTRAL. | B12: =++'LOTE 9'!F43 -> 122190
A14: TOTAL | B14: =SUM(B4:B13) -> 2410310.2 | C14: IVA
A16: Total 5 años | B16: =+B14*5 -> 12051551 | C16: =+B16*0.21 -> 2530825.7 | D16: =+C16+B16 -> 14582377
